BEGIN:VCALENDAR
VERSION:2.0
PRODID:-//O&#039;Bulles Croisière - ECPv5.14.1//NONSGML v1.0//EN
CALSCALE:GREGORIAN
METHOD:PUBLISH
X-WR-CALNAME:O&#039;Bulles Croisière
X-ORIGINAL-URL:https://www.obullescroisiere-mayotte.yt
X-WR-CALDESC:évènements pour O&#039;Bulles Croisière
REFRESH-INTERVAL;VALUE=DURATION:PT1H
X-Robots-Tag:noindex
X-PUBLISHED-TTL:PT1H
BEGIN:VTIMEZONE
TZID:Indian/Mayotte
BEGIN:STANDARD
TZOFFSETFROM:+0300
TZOFFSETTO:+0300
TZNAME:EAT
DTSTART:20240101T000000
END:STANDARD
END:VTIMEZONE
BEGIN:VEVENT
DTSTART;TZID=Indian/Mayotte:20241001T080000
DTEND;TZID=Indian/Mayotte:20241009T080000
DTSTAMP:20260422T214158
CREATED:20240421T163618Z
LAST-MODIFIED:20240530T102959Z
UID:14374-1727769600-1728460800@www.obullescroisiere-mayotte.yt
SUMMARY:Expédition plongée tour de l’île et banc de la Zélée
DESCRIPTION:Expédition tour de l’île et passage de deux jours sur le banc de la zélée. 15-18 plongées.
URL:https://www.obullescroisiere-mayotte.yt/evenement/expedition-plongee-tour-de-lile-et-banc-de-la-zelee/
ATTACH;FMTTYPE=image/jpeg:https://www.obullescroisiere-mayotte.yt/wp-content/uploads/2021/02/Plongée4_Obulles_Gaby_Barathieu-1-scaled.jpg
END:VEVENT
BEGIN:VEVENT
DTSTART;TZID=Indian/Mayotte:20241001T080000
DTEND;TZID=Indian/Mayotte:20241009T170000
DTSTAMP:20260422T214158
CREATED:20240916T184335Z
LAST-MODIFIED:20240918T140159Z
UID:14453-1727769600-1728493200@www.obullescroisiere-mayotte.yt
SUMMARY:Solde expédition tour de l’île + zélée
DESCRIPTION:
URL:https://www.obullescroisiere-mayotte.yt/evenement/solde-expedition-tour-de-lile-zelee/
END:VEVENT
BEGIN:VEVENT
DTSTART;TZID=Indian/Mayotte:20241011T160000
DTEND;TZID=Indian/Mayotte:20241015T070000
DTSTAMP:20260422T214158
CREATED:20240530T103234Z
LAST-MODIFIED:20240530T103234Z
UID:14424-1728662400-1728975600@www.obullescroisiere-mayotte.yt
SUMMARY:Privatisation Spéciale : Expédition Zélée 6 plongées
DESCRIPTION:Partez à l’aventure sur ce récif mythique à 120 km des côtes Mahoraises. Après une nuit de navigations vous plongerez sur de vertigineux tombant foisonnant de vie et rempli de surprises. 6 plongées en trois jours à la rencontre des grands de ce monde…\nImportant : cette sortie s’adresse aux personnes aguerries à la mer. La première et troisième nuits se font durant la navigation\, la deuxième sur le banc de la zélée. Le mouillage peut donc être rouleur.\nEn cas de mauvaises conditions météo la sortie sera redirigée vers le banc de l’Iris (tarif 550 €/pers)
URL:https://www.obullescroisiere-mayotte.yt/evenement/privatisation-speciale-expedition-zelee-6-plongees/
CATEGORIES:Expédition
ATTACH;FMTTYPE=image/jpeg:https://www.obullescroisiere-mayotte.yt/wp-content/uploads/2021/03/requin-iris-e1634754322856.jpg
END:VEVENT
END:VCALENDAR