BEGIN:VCALENDAR
VERSION:2.0
PRODID:-//O&#039;Bulles Croisière - ECPv5.14.1//NONSGML v1.0//EN
CALSCALE:GREGORIAN
METHOD:PUBLISH
X-WR-CALNAME:O&#039;Bulles Croisière
X-ORIGINAL-URL:https://www.obullescroisiere-mayotte.yt
X-WR-CALDESC:évènements pour O&#039;Bulles Croisière
REFRESH-INTERVAL;VALUE=DURATION:PT1H
X-Robots-Tag:noindex
X-PUBLISHED-TTL:PT1H
BEGIN:VTIMEZONE
TZID:Indian/Mayotte
BEGIN:STANDARD
TZOFFSETFROM:+0300
TZOFFSETTO:+0300
TZNAME:EAT
DTSTART:20240101T000000
END:STANDARD
END:VTIMEZONE
BEGIN:VEVENT
DTSTART;TZID=Indian/Mayotte:20240203T080000
DTEND;TZID=Indian/Mayotte:20240203T160000
DTSTAMP:20260420T114557
CREATED:20231223T110447Z
LAST-MODIFIED:20231223T110447Z
UID:13822-1706947200-1706976000@www.obullescroisiere-mayotte.yt
SUMMARY:Privatisation : Sortie O’Lagon
DESCRIPTION:Rendez vous à 8h pour une sortie en mer convenant au plus grand nombre. Que vous vouliez profiter simplement d’une sortie sur un bateau confortable pour faire du snorkeling sur les récifs\, faire une exploration en plongée bouteille ou même vous laisser tenter par un baptême de plongée encadré par un moniteur\, cette sortie est faite pour vous !\nPetit déjeuner\, repas du midi et apéro servis à bord !\nPour réserver un supplément plongeur autonome\, encadré ou baptême\, merci de nous appeler au 0639674371 afin de connaître les disponibilités d’encadrement.\nPour une privatisation\, merci de prendre contact avec nous par téléphone ou par mail.
URL:https://www.obullescroisiere-mayotte.yt/evenement/privatisation-sortie-olagon-16/
ATTACH;FMTTYPE=image/jpeg:https://www.obullescroisiere-mayotte.yt/wp-content/uploads/2021/01/IMG_0720.jpg
END:VEVENT
BEGIN:VEVENT
DTSTART;TZID=Indian/Mayotte:20240204T080000
DTEND;TZID=Indian/Mayotte:20240204T160000
DTSTAMP:20260420T114557
CREATED:20231223T113942Z
LAST-MODIFIED:20231223T113942Z
UID:13878-1707033600-1707062400@www.obullescroisiere-mayotte.yt
SUMMARY:Privatisation : Sortie O’Lagon
DESCRIPTION:Rendez vous à 8h pour une sortie en mer convenant au plus grand nombre. Que vous vouliez profiter simplement d’une sortie sur un bateau confortable pour faire du snorkeling sur les récifs\, faire une exploration en plongée bouteille ou même vous laisser tenter par un baptême de plongée encadré par un moniteur\, cette sortie est faite pour vous !\nPetit déjeuner\, repas du midi et apéro servis à bord !\nPour réserver un supplément plongeur autonome\, encadré ou baptême\, merci de nous appeler au 0639674371 afin de connaître les disponibilités d’encadrement.\nPour une privatisation\, merci de prendre contact avec nous par téléphone ou par mail.
URL:https://www.obullescroisiere-mayotte.yt/evenement/privatisation-sortie-olagon-17/
ATTACH;FMTTYPE=image/jpeg:https://www.obullescroisiere-mayotte.yt/wp-content/uploads/2021/01/IMG_0720.jpg
END:VEVENT
BEGIN:VEVENT
DTSTART;TZID=Indian/Mayotte:20240206T073000
DTEND;TZID=Indian/Mayotte:20240206T133000
DTSTAMP:20260420T114557
CREATED:20231223T110730Z
LAST-MODIFIED:20231223T110730Z
UID:13825-1707204600-1707226200@www.obullescroisiere-mayotte.yt
SUMMARY:Sortie spéciale double plongée extérieur
DESCRIPTION:Rendez vous à 7h30 pour une sortie deux plongées sur les sites de l’est\, à l’extérieur du lagon. Petit déjeuné sur la navigation allée\, suivi de la première plongée. Après un intervalle surfaces conséquent en mode farniente profitant des bains de soleils où en snorkeling sur les plus beaux récifs du lagon\, vient l’heure de la seconde immersion. Un apéro déjeunatoire est servi sur le trajet retour. Arrivé au pont on vers 13h30 – 14h. Tout cela dans le confort\, WC – douche avec eau chaude – bains de soleil\, musique…
URL:https://www.obullescroisiere-mayotte.yt/evenement/sortie-speciale-double-plongee-exterieur-6/
ATTACH;FMTTYPE=image/jpeg:https://www.obullescroisiere-mayotte.yt/wp-content/uploads/2021/02/Plongeurs_Mayotte_OBulles-e1614329798535.jpg
END:VEVENT
BEGIN:VEVENT
DTSTART;TZID=Indian/Mayotte:20240207T073000
DTEND;TZID=Indian/Mayotte:20240207T133000
DTSTAMP:20260420T114557
CREATED:20231223T110930Z
LAST-MODIFIED:20231223T110930Z
UID:13826-1707291000-1707312600@www.obullescroisiere-mayotte.yt
SUMMARY:Sortie spéciale double plongée extérieur
DESCRIPTION:Rendez vous à 7h30 pour une sortie deux plongées sur les sites de l’est\, à l’extérieur du lagon. Petit déjeuné sur la navigation allée\, suivi de la première plongée. Après un intervalle surfaces conséquent en mode farniente profitant des bains de soleils où en snorkeling sur les plus beaux récifs du lagon\, vient l’heure de la seconde immersion. Un apéro déjeunatoire est servi sur le trajet retour. Arrivé au pont on vers 13h30 – 14h. Tout cela dans le confort\, WC – douche avec eau chaude – bains de soleil\, musique…
URL:https://www.obullescroisiere-mayotte.yt/evenement/sortie-speciale-double-plongee-exterieur-7/
ATTACH;FMTTYPE=image/jpeg:https://www.obullescroisiere-mayotte.yt/wp-content/uploads/2021/02/Plongeurs_Mayotte_OBulles-e1614329798535.jpg
END:VEVENT
BEGIN:VEVENT
DTSTART;TZID=Indian/Mayotte:20240210T080000
DTEND;TZID=Indian/Mayotte:20240210T160000
DTSTAMP:20260420T114557
CREATED:20231223T112629Z
LAST-MODIFIED:20240109T172218Z
UID:13845-1707552000-1707580800@www.obullescroisiere-mayotte.yt
SUMMARY:Privatisation : Sortie O’Lagon
DESCRIPTION:Rendez vous à 8h pour une sortie en mer convenant au plus grand nombre. Que vous vouliez profiter simplement d’une sortie sur un bateau confortable pour faire du snorkeling sur les récifs\, faire une exploration en plongée bouteille ou même vous laisser tenter par un baptême de plongée encadré par un moniteur\, cette sortie est faite pour vous !\nPetit déjeuner\, repas du midi et apéro servis à bord !\nPour réserver un supplément plongeur autonome\, encadré ou baptême\, merci de nous appeler au 0639674371 afin de connaître les disponibilités d’encadrement.\nPour une privatisation\, merci de prendre contact avec nous par téléphone ou par mail.
URL:https://www.obullescroisiere-mayotte.yt/evenement/sortie-olagon-15/
ATTACH;FMTTYPE=image/jpeg:https://www.obullescroisiere-mayotte.yt/wp-content/uploads/2021/01/IMG_0720.jpg
END:VEVENT
BEGIN:VEVENT
DTSTART;TZID=Indian/Mayotte:20240211T080000
DTEND;TZID=Indian/Mayotte:20240211T160000
DTSTAMP:20260420T114557
CREATED:20231223T112702Z
LAST-MODIFIED:20240118T154030Z
UID:13846-1707638400-1707667200@www.obullescroisiere-mayotte.yt
SUMMARY:Sortie O’Lagon
DESCRIPTION:Rendez vous à 8h pour une sortie en mer convenant au plus grand nombre. Que vous vouliez profiter simplement d’une sortie sur un bateau confortable pour faire du snorkeling sur les récifs\, faire une exploration en plongée bouteille ou même vous laisser tenter par un baptême de plongée encadré par un moniteur\, cette sortie est faite pour vous !\nPetit déjeuner\, repas du midi et apéro servis à bord !\nPour réserver un supplément plongeur autonome\, encadré ou baptême\, merci de nous appeler au 0639674371 afin de connaître les disponibilités d’encadrement.\nPour une privatisation\, merci de prendre contact avec nous par téléphone ou par mail.
URL:https://www.obullescroisiere-mayotte.yt/evenement/sortie-olagon-16/
ATTACH;FMTTYPE=image/jpeg:https://www.obullescroisiere-mayotte.yt/wp-content/uploads/2021/01/IMG_0720.jpg
END:VEVENT
BEGIN:VEVENT
DTSTART;TZID=Indian/Mayotte:20240214T173000
DTEND;TZID=Indian/Mayotte:20240214T230000
DTSTAMP:20260420T114557
CREATED:20231223T114159Z
LAST-MODIFIED:20231223T114159Z
UID:13879-1707931800-1707951600@www.obullescroisiere-mayotte.yt
SUMMARY:Plongée de nuit\, sunset\, repas convivial à bord
DESCRIPTION:plongée de nuit\, rendez vous 16h30 mars à août et 17h30 de septembre à février\, au ponton de Mamoudzou\, suivie d’un repas à bord d’O’Bulle !
URL:https://www.obullescroisiere-mayotte.yt/evenement/plongee-de-nuit-sunset-repas-convivial-a-bord-25/
ATTACH;FMTTYPE=image/jpeg:https://www.obullescroisiere-mayotte.yt/wp-content/uploads/2021/01/O°Bulles_Nuit_Helena-Bernard-e1634753981869.jpeg
END:VEVENT
BEGIN:VEVENT
DTSTART;TZID=Indian/Mayotte:20240215T173000
DTEND;TZID=Indian/Mayotte:20240215T230000
DTSTAMP:20260420T114557
CREATED:20231223T114127Z
LAST-MODIFIED:20231223T114249Z
UID:13880-1708018200-1708038000@www.obullescroisiere-mayotte.yt
SUMMARY:Plongée de nuit\, sunset\, repas convivial à bord
DESCRIPTION:plongée de nuit\, rendez vous 16h30 mars à août et 17h30 de septembre à février\, au ponton de Mamoudzou\, suivie d’un repas à bord d’O’Bulle !
URL:https://www.obullescroisiere-mayotte.yt/evenement/plongee-de-nuit-sunset-repas-convivial-a-bord-24/
ATTACH;FMTTYPE=image/jpeg:https://www.obullescroisiere-mayotte.yt/wp-content/uploads/2021/01/O°Bulles_Nuit_Helena-Bernard-e1634753981869.jpeg
END:VEVENT
BEGIN:VEVENT
DTSTART;TZID=Indian/Mayotte:20240218T080000
DTEND;TZID=Indian/Mayotte:20240218T160000
DTSTAMP:20260420T114557
CREATED:20231223T112805Z
LAST-MODIFIED:20231223T112805Z
UID:13847-1708243200-1708272000@www.obullescroisiere-mayotte.yt
SUMMARY:Sortie O’Lagon
DESCRIPTION:Rendez vous à 8h pour une sortie en mer convenant au plus grand nombre. Que vous vouliez profiter simplement d’une sortie sur un bateau confortable pour faire du snorkeling sur les récifs\, faire une exploration en plongée bouteille ou même vous laisser tenter par un baptême de plongée encadré par un moniteur\, cette sortie est faite pour vous !\nPetit déjeuner\, repas du midi et apéro servis à bord !\nPour réserver un supplément plongeur autonome\, encadré ou baptême\, merci de nous appeler au 0639674371 afin de connaître les disponibilités d’encadrement.\nPour une privatisation\, merci de prendre contact avec nous par téléphone ou par mail.
URL:https://www.obullescroisiere-mayotte.yt/evenement/sortie-olagon-17/
ATTACH;FMTTYPE=image/jpeg:https://www.obullescroisiere-mayotte.yt/wp-content/uploads/2021/01/IMG_0720.jpg
END:VEVENT
BEGIN:VEVENT
DTSTART;TZID=Indian/Mayotte:20240220T073000
DTEND;TZID=Indian/Mayotte:20240220T133000
DTSTAMP:20260420T114557
CREATED:20231223T113628Z
LAST-MODIFIED:20240208T092815Z
UID:13868-1708414200-1708435800@www.obullescroisiere-mayotte.yt
SUMMARY:Sortie spéciale double plongée extérieur
DESCRIPTION:Rendez vous à 7h30 pour une sortie deux plongées sur les sites de l’est\, à l’extérieur du lagon. Petit déjeuné sur la navigation allée\, suivi de la première plongée. Après un intervalle surfaces conséquent en mode farniente profitant des bains de soleils où en snorkeling sur les plus beaux récifs du lagon\, vient l’heure de la seconde immersion. Un apéro déjeunatoire est servi sur le trajet retour. Arrivé au pont on vers 13h30 – 14h. Tout cela dans le confort\, WC – douche avec eau chaude – bains de soleil\, musique…
URL:https://www.obullescroisiere-mayotte.yt/evenement/sortie-speciale-double-plongee-exterieur-8/
ATTACH;FMTTYPE=image/jpeg:https://www.obullescroisiere-mayotte.yt/wp-content/uploads/2021/02/Plongeurs_Mayotte_OBulles-e1614329798535.jpg
END:VEVENT
BEGIN:VEVENT
DTSTART;TZID=Indian/Mayotte:20240221T073000
DTEND;TZID=Indian/Mayotte:20240221T133000
DTSTAMP:20260420T114557
CREATED:20231223T113753Z
LAST-MODIFIED:20231223T113753Z
UID:13869-1708500600-1708522200@www.obullescroisiere-mayotte.yt
SUMMARY:Sortie spéciale double plongée extérieur
DESCRIPTION:Rendez vous à 7h30 pour une sortie deux plongées sur les sites de l’est\, à l’extérieur du lagon. Petit déjeuné sur la navigation allée\, suivi de la première plongée. Après un intervalle surfaces conséquent en mode farniente profitant des bains de soleils où en snorkeling sur les plus beaux récifs du lagon\, vient l’heure de la seconde immersion. Un apéro déjeunatoire est servi sur le trajet retour. Arrivé au pont on vers 13h30 – 14h. Tout cela dans le confort\, WC – douche avec eau chaude – bains de soleil\, musique…
URL:https://www.obullescroisiere-mayotte.yt/evenement/sortie-speciale-double-plongee-exterieur-9/
ATTACH;FMTTYPE=image/jpeg:https://www.obullescroisiere-mayotte.yt/wp-content/uploads/2021/02/Plongeurs_Mayotte_OBulles-e1614329798535.jpg
END:VEVENT
BEGIN:VEVENT
DTSTART;TZID=Indian/Mayotte:20240224T080000
DTEND;TZID=Indian/Mayotte:20240224T160000
DTSTAMP:20260420T114557
CREATED:20231223T112852Z
LAST-MODIFIED:20231223T112852Z
UID:13848-1708761600-1708790400@www.obullescroisiere-mayotte.yt
SUMMARY:Sortie O’Lagon
DESCRIPTION:Rendez vous à 8h pour une sortie en mer convenant au plus grand nombre. Que vous vouliez profiter simplement d’une sortie sur un bateau confortable pour faire du snorkeling sur les récifs\, faire une exploration en plongée bouteille ou même vous laisser tenter par un baptême de plongée encadré par un moniteur\, cette sortie est faite pour vous !\nPetit déjeuner\, repas du midi et apéro servis à bord !\nPour réserver un supplément plongeur autonome\, encadré ou baptême\, merci de nous appeler au 0639674371 afin de connaître les disponibilités d’encadrement.\nPour une privatisation\, merci de prendre contact avec nous par téléphone ou par mail.
URL:https://www.obullescroisiere-mayotte.yt/evenement/sortie-olagon-18/
ATTACH;FMTTYPE=image/jpeg:https://www.obullescroisiere-mayotte.yt/wp-content/uploads/2021/01/IMG_0720.jpg
END:VEVENT
BEGIN:VEVENT
DTSTART;TZID=Indian/Mayotte:20240225T080000
DTEND;TZID=Indian/Mayotte:20240225T160000
DTSTAMP:20260420T114557
CREATED:20231223T113006Z
LAST-MODIFIED:20231223T113006Z
UID:13863-1708848000-1708876800@www.obullescroisiere-mayotte.yt
SUMMARY:Sortie O’Lagon
DESCRIPTION:Rendez vous à 8h pour une sortie en mer convenant au plus grand nombre. Que vous vouliez profiter simplement d’une sortie sur un bateau confortable pour faire du snorkeling sur les récifs\, faire une exploration en plongée bouteille ou même vous laisser tenter par un baptême de plongée encadré par un moniteur\, cette sortie est faite pour vous !\nPetit déjeuner\, repas du midi et apéro servis à bord !\nPour réserver un supplément plongeur autonome\, encadré ou baptême\, merci de nous appeler au 0639674371 afin de connaître les disponibilités d’encadrement.\nPour une privatisation\, merci de prendre contact avec nous par téléphone ou par mail.
URL:https://www.obullescroisiere-mayotte.yt/evenement/sortie-olagon-19/
ATTACH;FMTTYPE=image/jpeg:https://www.obullescroisiere-mayotte.yt/wp-content/uploads/2021/01/IMG_0720.jpg
END:VEVENT
END:VCALENDAR