BEGIN:VCALENDAR
VERSION:2.0
PRODID:-//O&#039;Bulles Croisière - ECPv5.14.1//NONSGML v1.0//EN
CALSCALE:GREGORIAN
METHOD:PUBLISH
X-WR-CALNAME:O&#039;Bulles Croisière
X-ORIGINAL-URL:https://www.obullescroisiere-mayotte.yt
X-WR-CALDESC:évènements pour O&#039;Bulles Croisière
REFRESH-INTERVAL;VALUE=DURATION:PT1H
X-Robots-Tag:noindex
X-PUBLISHED-TTL:PT1H
BEGIN:VTIMEZONE
TZID:Indian/Mayotte
BEGIN:STANDARD
TZOFFSETFROM:+0300
TZOFFSETTO:+0300
TZNAME:EAT
DTSTART:20240101T000000
END:STANDARD
END:VTIMEZONE
BEGIN:VEVENT
DTSTART;TZID=Indian/Mayotte:20240102T080000
DTEND;TZID=Indian/Mayotte:20240102T160000
DTSTAMP:20260420T095414
CREATED:20231223T110413Z
LAST-MODIFIED:20231223T110413Z
UID:13823-1704182400-1704211200@www.obullescroisiere-mayotte.yt
SUMMARY:Privatisation : Sortie O’Lagon
DESCRIPTION:Rendez vous à 8h pour une sortie en mer convenant au plus grand nombre. Que vous vouliez profiter simplement d’une sortie sur un bateau confortable pour faire du snorkeling sur les récifs\, faire une exploration en plongée bouteille ou même vous laisser tenter par un baptême de plongée encadré par un moniteur\, cette sortie est faite pour vous !\nPetit déjeuner\, repas du midi et apéro servis à bord !\nPour réserver un supplément plongeur autonome\, encadré ou baptême\, merci de nous appeler au 0639674371 afin de connaître les disponibilités d’encadrement.\nPour une privatisation\, merci de prendre contact avec nous par téléphone ou par mail.
URL:https://www.obullescroisiere-mayotte.yt/evenement/privatisation-sortie-olagon-14/
ATTACH;FMTTYPE=image/jpeg:https://www.obullescroisiere-mayotte.yt/wp-content/uploads/2021/01/IMG_0720.jpg
END:VEVENT
BEGIN:VEVENT
DTSTART;TZID=Indian/Mayotte:20240103T080000
DTEND;TZID=Indian/Mayotte:20240103T160000
DTSTAMP:20260420T095414
CREATED:20231223T112131Z
LAST-MODIFIED:20231223T112131Z
UID:13849-1704268800-1704297600@www.obullescroisiere-mayotte.yt
SUMMARY:Sortie O’Lagon
DESCRIPTION:Rendez vous à 8h pour une sortie en mer convenant au plus grand nombre. Que vous vouliez profiter simplement d’une sortie sur un bateau confortable pour faire du snorkeling sur les récifs\, faire une exploration en plongée bouteille ou même vous laisser tenter par un baptême de plongée encadré par un moniteur\, cette sortie est faite pour vous !\nPetit déjeuner\, repas du midi et apéro servis à bord !\nPour réserver un supplément plongeur autonome\, encadré ou baptême\, merci de nous appeler au 0639674371 afin de connaître les disponibilités d’encadrement.\nPour une privatisation\, merci de prendre contact avec nous par téléphone ou par mail.
URL:https://www.obullescroisiere-mayotte.yt/evenement/sortie-olagon-13/
ATTACH;FMTTYPE=image/jpeg:https://www.obullescroisiere-mayotte.yt/wp-content/uploads/2021/01/IMG_0720.jpg
END:VEVENT
BEGIN:VEVENT
DTSTART;TZID=Indian/Mayotte:20240112T160000
DTEND;TZID=Indian/Mayotte:20240115T070000
DTSTAMP:20260420T095414
CREATED:20230901T062531Z
LAST-MODIFIED:20230910T164531Z
UID:13157-1705075200-1705302000@www.obullescroisiere-mayotte.yt
SUMMARY:Expédition Zélée 4 plongées
DESCRIPTION:Partez à l’aventure sur ce récif mythique à 120 km des côtes Mahoraises. Après une nuit de navigations vous plongerez sur de vertigineux tombant foisonnant de vie et rempli de surprises. 4 plongées en deux jours à la rencontre des grands de ce monde…\nImportant : cette sortie s’adresse aux personnes aguerries à la mer. La première et troisième nuits se font durant la navigation\, la deuxième sur le banc de la zélée. Le mouillage peut donc être rouleur.\nEn cas de mauvaises conditions météo la sortie sera redirigée vers le banc de l’Iris (tarif 550 €/pers)
URL:https://www.obullescroisiere-mayotte.yt/evenement/expedition-zelee-4-plongees-10/
CATEGORIES:Expédition
ATTACH;FMTTYPE=image/jpeg:https://www.obullescroisiere-mayotte.yt/wp-content/uploads/2021/03/requin-iris-e1634754322856.jpg
END:VEVENT
BEGIN:VEVENT
DTSTART;TZID=Indian/Mayotte:20240116T160000
DTEND;TZID=Indian/Mayotte:20240118T170000
DTSTAMP:20260420T095414
CREATED:20230901T062720Z
LAST-MODIFIED:20230910T164744Z
UID:13158-1705420800-1705597200@www.obullescroisiere-mayotte.yt
SUMMARY:Expédition Banc de l’Iris - Nord 4 plongées
DESCRIPTION:Venez explorer les sites au nord de Mayotte : le banc de l’Iris. 4 plongées à la recherche des grosses bébêtes de notre lagon ! Requin dagsit\, marteaux\, bouledogue\, obésus\, albimarginatus\, nourrice\, thon dent de chien\, thazard\, carangues\, mérou\, espadon…\nCompris entre 20 et 35 mètres de profondeurs\, il vous faut être PE40 minimum pour accéder à ces plongées exceptionnelles.
URL:https://www.obullescroisiere-mayotte.yt/evenement/expedition-banc-de-liris-nord-4-plongees-4/
CATEGORIES:Expédition
ATTACH;FMTTYPE=image/jpeg:https://www.obullescroisiere-mayotte.yt/wp-content/uploads/2021/03/requin-iris-e1634754322856.jpg
END:VEVENT
BEGIN:VEVENT
DTSTART;TZID=Indian/Mayotte:20240127T080000
DTEND;TZID=Indian/Mayotte:20240127T160000
DTSTAMP:20260420T095414
CREATED:20231223T112546Z
LAST-MODIFIED:20240118T153644Z
UID:13844-1706342400-1706371200@www.obullescroisiere-mayotte.yt
SUMMARY:Sortie O’Lagon
DESCRIPTION:Rendez vous à 8h pour une sortie en mer convenant au plus grand nombre. Que vous vouliez profiter simplement d’une sortie sur un bateau confortable pour faire du snorkeling sur les récifs\, faire une exploration en plongée bouteille ou même vous laisser tenter par un baptême de plongée encadré par un moniteur\, cette sortie est faite pour vous !\nPetit déjeuner\, repas du midi et apéro servis à bord !\nPour réserver un supplément plongeur autonome\, encadré ou baptême\, merci de nous appeler au 0639674371 afin de connaître les disponibilités d’encadrement.\nPour une privatisation\, merci de prendre contact avec nous par téléphone ou par mail.
URL:https://www.obullescroisiere-mayotte.yt/evenement/sortie-olagon-14/
ATTACH;FMTTYPE=image/jpeg:https://www.obullescroisiere-mayotte.yt/wp-content/uploads/2021/01/IMG_0720.jpg
END:VEVENT
BEGIN:VEVENT
DTSTART;TZID=Indian/Mayotte:20240128T080000
DTEND;TZID=Indian/Mayotte:20240128T160000
DTSTAMP:20260420T095414
CREATED:20231223T110430Z
LAST-MODIFIED:20231223T110430Z
UID:13824-1706428800-1706457600@www.obullescroisiere-mayotte.yt
SUMMARY:Privatisation : Sortie O’Lagon
DESCRIPTION:Rendez vous à 8h pour une sortie en mer convenant au plus grand nombre. Que vous vouliez profiter simplement d’une sortie sur un bateau confortable pour faire du snorkeling sur les récifs\, faire une exploration en plongée bouteille ou même vous laisser tenter par un baptême de plongée encadré par un moniteur\, cette sortie est faite pour vous !\nPetit déjeuner\, repas du midi et apéro servis à bord !\nPour réserver un supplément plongeur autonome\, encadré ou baptême\, merci de nous appeler au 0639674371 afin de connaître les disponibilités d’encadrement.\nPour une privatisation\, merci de prendre contact avec nous par téléphone ou par mail.
URL:https://www.obullescroisiere-mayotte.yt/evenement/privatisation-sortie-olagon-15/
ATTACH;FMTTYPE=image/jpeg:https://www.obullescroisiere-mayotte.yt/wp-content/uploads/2021/01/IMG_0720.jpg
END:VEVENT
BEGIN:VEVENT
DTSTART;TZID=Indian/Mayotte:20240130T173000
DTEND;TZID=Indian/Mayotte:20240130T230000
DTSTAMP:20260420T095414
CREATED:20231223T111133Z
LAST-MODIFIED:20231223T111133Z
UID:13827-1706635800-1706655600@www.obullescroisiere-mayotte.yt
SUMMARY:Plongée de nuit\, sunset\, repas convivial à bord
DESCRIPTION:plongée de nuit\, rendez vous 16h30 mars à août et 17h30 de septembre à février\, au ponton de Mamoudzou\, suivie d’un repas à bord d’O’Bulle !
URL:https://www.obullescroisiere-mayotte.yt/evenement/plongee-de-nuit-sunset-repas-convivial-a-bord-22/
ATTACH;FMTTYPE=image/jpeg:https://www.obullescroisiere-mayotte.yt/wp-content/uploads/2021/01/O°Bulles_Nuit_Helena-Bernard-e1634753981869.jpeg
END:VEVENT
BEGIN:VEVENT
DTSTART;TZID=Indian/Mayotte:20240131T173000
DTEND;TZID=Indian/Mayotte:20240131T230000
DTSTAMP:20260420T095414
CREATED:20231223T111305Z
LAST-MODIFIED:20240121T083613Z
UID:13828-1706722200-1706742000@www.obullescroisiere-mayotte.yt
SUMMARY:Plongée de nuit\, sunset\, repas convivial à bord
DESCRIPTION:plongée de nuit\, rendez vous 16h30 mars à août et 17h30 de septembre à février\, au ponton de Mamoudzou\, suivie d’un repas à bord d’O’Bulle !
URL:https://www.obullescroisiere-mayotte.yt/evenement/plongee-de-nuit-sunset-repas-convivial-a-bord-23/
ATTACH;FMTTYPE=image/jpeg:https://www.obullescroisiere-mayotte.yt/wp-content/uploads/2021/01/O°Bulles_Nuit_Helena-Bernard-e1634753981869.jpeg
END:VEVENT
END:VCALENDAR