BEGIN:VCALENDAR
VERSION:2.0
PRODID:-//O&#039;Bulles Croisière - ECPv5.14.1//NONSGML v1.0//EN
CALSCALE:GREGORIAN
METHOD:PUBLISH
X-WR-CALNAME:O&#039;Bulles Croisière
X-ORIGINAL-URL:https://www.obullescroisiere-mayotte.yt
X-WR-CALDESC:évènements pour O&#039;Bulles Croisière
REFRESH-INTERVAL;VALUE=DURATION:PT1H
X-Robots-Tag:noindex
X-PUBLISHED-TTL:PT1H
BEGIN:VTIMEZONE
TZID:Indian/Mayotte
BEGIN:STANDARD
TZOFFSETFROM:+0300
TZOFFSETTO:+0300
TZNAME:EAT
DTSTART:20230101T000000
END:STANDARD
END:VTIMEZONE
BEGIN:VEVENT
DTSTART;TZID=Indian/Mayotte:20230804T080000
DTEND;TZID=Indian/Mayotte:20230804T160000
DTSTAMP:20260420T013738
CREATED:20230717T074415Z
LAST-MODIFIED:20230717T074415Z
UID:12899-1691136000-1691164800@www.obullescroisiere-mayotte.yt
SUMMARY:Privatisation : Sortie O’Lagon
DESCRIPTION:Rendez vous à 8h pour une sortie en mer convenant au plus grand nombre. Que vous vouliez profiter simplement d’une sortie sur un bateau confortable pour faire du snorkeling sur les récifs\, faire une exploration en plongée bouteille ou même vous laisser tenter par un baptême de plongée encadré par un moniteur\, cette sortie est faite pour vous !\nPetit déjeuner\, repas du midi et apéro servis à bord !\nPour réserver un supplément plongeur autonome\, encadré ou baptême\, merci de nous appeler au 0639654215 afin de connaître les disponibilités d’encadrement.\nPour une privatisation\, merci de prendre contact avec nous par téléphone ou par mail.
URL:https://www.obullescroisiere-mayotte.yt/evenement/privatisation-sortie-olagon/
ATTACH;FMTTYPE=image/jpeg:https://www.obullescroisiere-mayotte.yt/wp-content/uploads/2021/01/IMG_0720.jpg
END:VEVENT
BEGIN:VEVENT
DTSTART;TZID=Indian/Mayotte:20230811T163000
DTEND;TZID=Indian/Mayotte:20230811T223000
DTSTAMP:20260420T013738
CREATED:20230717T080211Z
LAST-MODIFIED:20230717T080211Z
UID:12918-1691771400-1691793000@www.obullescroisiere-mayotte.yt
SUMMARY:Plongée de nuit\, sunset\, repas convivial à bord
DESCRIPTION:plongée de nuit\, rendez vous 16h30 mars à août et 17h30 de septembre à février\, au ponton de Mamoudzou\, suivie d’un repas à bord d’O’Bulle !
URL:https://www.obullescroisiere-mayotte.yt/evenement/plongee-de-nuit-sunset-repas-convivial-a-bord-13/
ATTACH;FMTTYPE=image/jpeg:https://www.obullescroisiere-mayotte.yt/wp-content/uploads/2021/01/O°Bulles_Nuit_Helena-Bernard-e1634753981869.jpeg
END:VEVENT
BEGIN:VEVENT
DTSTART;TZID=Indian/Mayotte:20230813T073000
DTEND;TZID=Indian/Mayotte:20230813T133000
DTSTAMP:20260420T013738
CREATED:20230717T072719Z
LAST-MODIFIED:20230811T122654Z
UID:12889-1691911800-1691933400@www.obullescroisiere-mayotte.yt
SUMMARY:Sortie double plongée
DESCRIPTION:Rendez vous à 7h30 pour une sortie deux plongées sur les sites de l’est. Petit déjeuné sur la navigation allée\, suivi de la première plongée. Après un intervalle surfaces conséquent en mode farniente profitant des bains de soleils où en snorkeling sur les plus beaux récifs du lagon\, vient l’heure de la seconde immersion. Un apéro déjeunatoire est servi sur le trajet retour. Arrivé au pont on vers 13h30 – 14h. Tout cela dans le confort\, WC – douche avec eau chaude – bains de soleil\, musique…
URL:https://www.obullescroisiere-mayotte.yt/evenement/sortie-double-plongee-3/
ATTACH;FMTTYPE=image/png:https://www.obullescroisiere-mayotte.yt/wp-content/uploads/2021/02/Plongée_Choizil_Gaby_Barathieu.png
END:VEVENT
BEGIN:VEVENT
DTSTART;TZID=Indian/Mayotte:20230815T080000
DTEND;TZID=Indian/Mayotte:20230815T160000
DTSTAMP:20260420T013738
CREATED:20230717T074616Z
LAST-MODIFIED:20230717T074616Z
UID:12900-1692086400-1692115200@www.obullescroisiere-mayotte.yt
SUMMARY:Privatisation : Sortie O’Lagon
DESCRIPTION:Rendez vous à 8h pour une sortie en mer convenant au plus grand nombre. Que vous vouliez profiter simplement d’une sortie sur un bateau confortable pour faire du snorkeling sur les récifs\, faire une exploration en plongée bouteille ou même vous laisser tenter par un baptême de plongée encadré par un moniteur\, cette sortie est faite pour vous !\nPetit déjeuner\, repas du midi et apéro servis à bord !\nPour réserver un supplément plongeur autonome\, encadré ou baptême\, merci de nous appeler au 0639654215 afin de connaître les disponibilités d’encadrement.\nPour une privatisation\, merci de prendre contact avec nous par téléphone ou par mail.
URL:https://www.obullescroisiere-mayotte.yt/evenement/privatisation-sortie-olagon-2/
ATTACH;FMTTYPE=image/jpeg:https://www.obullescroisiere-mayotte.yt/wp-content/uploads/2021/01/IMG_0720.jpg
END:VEVENT
BEGIN:VEVENT
DTSTART;TZID=Indian/Mayotte:20230816T080000
DTEND;TZID=Indian/Mayotte:20230816T160000
DTSTAMP:20260420T013738
CREATED:20230717T074715Z
LAST-MODIFIED:20230811T122745Z
UID:12902-1692172800-1692201600@www.obullescroisiere-mayotte.yt
SUMMARY:Sortie O’Lagon  - snorkeling & plongée
DESCRIPTION:Rendez vous à 8h pour une sortie en mer convenant au plus grand nombre. Que vous vouliez profiter simplement d’une sortie sur un bateau confortable pour faire du snorkeling sur les récifs\, faire une exploration en plongée bouteille ou même vous laisser tenter par un baptême de plongée encadré par un moniteur\, cette sortie est faite pour vous !\nPetit déjeuner\, repas du midi et apéro servis à bord !\nPour réserver un supplément plongeur autonome\, encadré ou baptême\, merci de nous appeler au 0639654215 afin de connaître les disponibilités d’encadrement.\nPour une privatisation\, merci de prendre contact avec nous par téléphone ou par mail.
URL:https://www.obullescroisiere-mayotte.yt/evenement/sortie-olagon-9/
ATTACH;FMTTYPE=image/jpeg:https://www.obullescroisiere-mayotte.yt/wp-content/uploads/2021/01/IMG_0720.jpg
END:VEVENT
BEGIN:VEVENT
DTSTART;TZID=Indian/Mayotte:20230820T080000
DTEND;TZID=Indian/Mayotte:20230820T160000
DTSTAMP:20260420T013738
CREATED:20230717T074832Z
LAST-MODIFIED:20230818T110352Z
UID:12903-1692518400-1692547200@www.obullescroisiere-mayotte.yt
SUMMARY:Sortie O’Lagon - snorkeling & plongée
DESCRIPTION:Rendez vous à 8h pour une sortie en mer convenant au plus grand nombre. Que vous vouliez profiter simplement d’une sortie sur un bateau confortable pour faire du snorkeling sur les récifs\, faire une exploration en plongée bouteille ou même vous laisser tenter par un baptême de plongée encadré par un moniteur\, cette sortie est faite pour vous !\nPetit déjeuner\, repas du midi et apéro servis à bord !\nPour réserver un supplément plongeur autonome\, encadré ou baptême\, merci de nous appeler au 0639674371 afin de connaître les disponibilités d’encadrement.\nPour une privatisation\, merci de prendre contact avec nous par téléphone ou par mail.
URL:https://www.obullescroisiere-mayotte.yt/evenement/sortie-olagon-10/
ATTACH;FMTTYPE=image/jpeg:https://www.obullescroisiere-mayotte.yt/wp-content/uploads/2021/01/IMG_0720.jpg
END:VEVENT
BEGIN:VEVENT
DTSTART;TZID=Indian/Mayotte:20230823T163000
DTEND;TZID=Indian/Mayotte:20230823T223000
DTSTAMP:20260420T013738
CREATED:20230717T080323Z
LAST-MODIFIED:20230717T080323Z
UID:12919-1692808200-1692829800@www.obullescroisiere-mayotte.yt
SUMMARY:Plongée de nuit\, sunset\, repas convivial à bord
DESCRIPTION:plongée de nuit\, rendez vous 16h30 mars à août et 17h30 de septembre à février\, au ponton de Mamoudzou\, suivie d’un repas à bord d’O’Bulle !
URL:https://www.obullescroisiere-mayotte.yt/evenement/plongee-de-nuit-sunset-repas-convivial-a-bord-14/
ATTACH;FMTTYPE=image/jpeg:https://www.obullescroisiere-mayotte.yt/wp-content/uploads/2021/01/O°Bulles_Nuit_Helena-Bernard-e1634753981869.jpeg
END:VEVENT
BEGIN:VEVENT
DTSTART;TZID=Indian/Mayotte:20230826T073000
DTEND;TZID=Indian/Mayotte:20230826T133000
DTSTAMP:20260420T013738
CREATED:20230717T072831Z
LAST-MODIFIED:20230717T072831Z
UID:12888-1693035000-1693056600@www.obullescroisiere-mayotte.yt
SUMMARY:Sortie double plongée
DESCRIPTION:Rendez vous à 7h30 pour une sortie deux plongées sur les sites de l’est. Petit déjeuné sur la navigation allée\, suivi de la première plongée. Après un intervalle surfaces conséquent en mode farniente profitant des bains de soleils où en snorkeling sur les plus beaux récifs du lagon\, vient l’heure de la seconde immersion. Un apéro déjeunatoire est servi sur le trajet retour. Arrivé au pont on vers 13h30 – 14h. Tout cela dans le confort\, WC – douche avec eau chaude – bains de soleil\, musique…
URL:https://www.obullescroisiere-mayotte.yt/evenement/sortie-double-plongee-4/
ATTACH;FMTTYPE=image/png:https://www.obullescroisiere-mayotte.yt/wp-content/uploads/2021/02/Plongée_Choizil_Gaby_Barathieu.png
END:VEVENT
BEGIN:VEVENT
DTSTART;TZID=Indian/Mayotte:20230829T080000
DTEND;TZID=Indian/Mayotte:20230829T160000
DTSTAMP:20260420T013738
CREATED:20230717T074105Z
LAST-MODIFIED:20230818T110305Z
UID:12896-1693296000-1693324800@www.obullescroisiere-mayotte.yt
SUMMARY:Sortie O’Lagon  - snorkeling & plongée
DESCRIPTION:Rendez vous à 8h pour une sortie en mer convenant au plus grand nombre. Que vous vouliez profiter simplement d’une sortie sur un bateau confortable pour faire du snorkeling sur les récifs\, faire une exploration en plongée bouteille ou même vous laisser tenter par un baptême de plongée encadré par un moniteur\, cette sortie est faite pour vous !\nPetit déjeuner\, repas du midi et apéro servis à bord !\nPour réserver un supplément plongeur autonome\, encadré ou baptême\, merci de nous appeler au 0639674371 afin de connaître les disponibilités d’encadrement.\nPour une privatisation\, merci de prendre contact avec nous par téléphone ou par mail.
URL:https://www.obullescroisiere-mayotte.yt/evenement/sortie-olagon-7/
ATTACH;FMTTYPE=image/jpeg:https://www.obullescroisiere-mayotte.yt/wp-content/uploads/2021/01/IMG_0720.jpg
END:VEVENT
END:VCALENDAR