BEGIN:VCALENDAR
VERSION:2.0
PRODID:-//O&#039;Bulles Croisière - ECPv5.14.1//NONSGML v1.0//EN
CALSCALE:GREGORIAN
METHOD:PUBLISH
X-WR-CALNAME:O&#039;Bulles Croisière
X-ORIGINAL-URL:https://www.obullescroisiere-mayotte.yt
X-WR-CALDESC:évènements pour O&#039;Bulles Croisière
REFRESH-INTERVAL;VALUE=DURATION:PT1H
X-Robots-Tag:noindex
X-PUBLISHED-TTL:PT1H
BEGIN:VTIMEZONE
TZID:Indian/Mayotte
BEGIN:STANDARD
TZOFFSETFROM:+0300
TZOFFSETTO:+0300
TZNAME:EAT
DTSTART:20230101T000000
END:STANDARD
END:VTIMEZONE
BEGIN:VEVENT
DTSTART;TZID=Indian/Mayotte:20230602T160000
DTEND;TZID=Indian/Mayotte:20230605T070000
DTSTAMP:20260419T225310
CREATED:20230408T063744Z
LAST-MODIFIED:20230417T165108Z
UID:12411-1685721600-1685948400@www.obullescroisiere-mayotte.yt
SUMMARY:Expédition Zélée ou banc de l’Iris 4 plongées
DESCRIPTION:Partez à l’aventure sur ce récif mythique à 120 km des côtes Mahoraises. Après une nuit de navigations vous plongerez sur de vertigineux tombant foisonnant de vie et rempli de surprises. 4 plongées en deux jours à la rencontre des grands de ce monde…\nImportant : cette sortie s’adresse aux personnes aguerries à la mer. La première et troisième nuits se font durant la navigation\, la deuxième sur le banc de la zélée. Le mouillage peut donc être rouleur.\nEn cas de mauvaises conditions météo la sortie sera redirigée vers le banc de l’Iris (tarif 550 €/pers)
URL:https://www.obullescroisiere-mayotte.yt/evenement/expedition-zelee-ou-banc-de-liris-4-plongees/
CATEGORIES:Expédition
ATTACH;FMTTYPE=image/jpeg:https://www.obullescroisiere-mayotte.yt/wp-content/uploads/2021/03/requin-iris-e1634754322856.jpg
END:VEVENT
BEGIN:VEVENT
DTSTART;TZID=Indian/Mayotte:20230609T080000
DTEND;TZID=Indian/Mayotte:20230611T170000
DTSTAMP:20260419T225310
CREATED:20230408T055923Z
LAST-MODIFIED:20230408T055923Z
UID:12424-1686297600-1686502800@www.obullescroisiere-mayotte.yt
SUMMARY:Privatisation Expédition Nord
DESCRIPTION:
URL:https://www.obullescroisiere-mayotte.yt/evenement/privatisation-expedition-nord/
END:VEVENT
BEGIN:VEVENT
DTSTART;TZID=Indian/Mayotte:20230614T163000
DTEND;TZID=Indian/Mayotte:20230614T223000
DTSTAMP:20260419T225310
CREATED:20230408T060625Z
LAST-MODIFIED:20230523T165639Z
UID:12430-1686760200-1686781800@www.obullescroisiere-mayotte.yt
SUMMARY:Plongée de nuit\, sunset\, repas convivial à bord
DESCRIPTION:plongée de nuit\, rendez vous 16h30 mars à août et 17h30 de septembre à février\, au ponton de Mamoudzou\, suivie d’un repas à bord d’O’Bulle !
URL:https://www.obullescroisiere-mayotte.yt/evenement/plongee-de-nuit-sunset-repas-convivial-a-bord-8/
ATTACH;FMTTYPE=image/jpeg:https://www.obullescroisiere-mayotte.yt/wp-content/uploads/2021/01/O°Bulles_Nuit_Helena-Bernard-e1634753981869.jpeg
END:VEVENT
BEGIN:VEVENT
DTSTART;TZID=Indian/Mayotte:20230618T080000
DTEND;TZID=Indian/Mayotte:20230625T170000
DTSTAMP:20260419T225310
CREATED:20230408T060124Z
LAST-MODIFIED:20230408T060124Z
UID:12427-1687075200-1687712400@www.obullescroisiere-mayotte.yt
SUMMARY:Privatisation semaine tour de l’Ile
DESCRIPTION:
URL:https://www.obullescroisiere-mayotte.yt/evenement/privatisation-semaine-tour-de-lile/
END:VEVENT
END:VCALENDAR