BEGIN:VCALENDAR
VERSION:2.0
PRODID:-//O&#039;Bulles Croisière - ECPv5.14.1//NONSGML v1.0//EN
CALSCALE:GREGORIAN
METHOD:PUBLISH
X-WR-CALNAME:O&#039;Bulles Croisière
X-ORIGINAL-URL:https://www.obullescroisiere-mayotte.yt
X-WR-CALDESC:évènements pour O&#039;Bulles Croisière
REFRESH-INTERVAL;VALUE=DURATION:PT1H
X-Robots-Tag:noindex
X-PUBLISHED-TTL:PT1H
BEGIN:VTIMEZONE
TZID:Indian/Mayotte
BEGIN:STANDARD
TZOFFSETFROM:+0300
TZOFFSETTO:+0300
TZNAME:EAT
DTSTART:20230101T000000
END:STANDARD
END:VTIMEZONE
BEGIN:VEVENT
DTSTART;TZID=Indian/Mayotte:20230501T083000
DTEND;TZID=Indian/Mayotte:20230501T170000
DTSTAMP:20260419T213323
CREATED:20230408T052912Z
LAST-MODIFIED:20230408T052912Z
UID:12402-1682929800-1682960400@www.obullescroisiere-mayotte.yt
SUMMARY:Privatisation Journée Snorkeling en catamaran
DESCRIPTION:Au programme de cette journée à bord de notre catamaran\, deux sessions de snorkeling sur les plus beaux récifs du coin. Matériel fourni.\nPetit déjeuné\, repas grillade et apéro à bord.\nDépart 8h30\, retour 16h30-17H.
URL:https://www.obullescroisiere-mayotte.yt/evenement/privatisation-journee-snorkeling-en-catamaran/
ATTACH;FMTTYPE=image/jpeg:https://www.obullescroisiere-mayotte.yt/wp-content/uploads/2021/01/IMG_0720.jpg
END:VEVENT
BEGIN:VEVENT
DTSTART;TZID=Indian/Mayotte:20230503T160000
DTEND;TZID=Indian/Mayotte:20230505T170000
DTSTAMP:20260419T213323
CREATED:20230408T052241Z
LAST-MODIFIED:20230408T052356Z
UID:12395-1683129600-1683306000@www.obullescroisiere-mayotte.yt
SUMMARY:Expédition Banc de l’Iris - Nord 4 plongées
DESCRIPTION:Venez explorer les sites au nord de Mayotte : le banc de l’Iris. 4 plongées à la recherche des grosse bébêtes de notre lagon ! Requin dagsit\, marteaux\, bouledogue\, obésus\, albimarginatus\, nourrice\, thon dent de chien\, thazard\, carangues\, mérou\, espadon…\nCompris entre 20 et 35 mètres de profondeurs\, il vous faut être PE40 minimum pour accéder à ces plongées exceptionnelles.
URL:https://www.obullescroisiere-mayotte.yt/evenement/expedition-banc-de-liris-nord-4-plongees-3/
CATEGORIES:Expédition
ATTACH;FMTTYPE=image/jpeg:https://www.obullescroisiere-mayotte.yt/wp-content/uploads/2021/03/requin-iris-e1634754322856.jpg
END:VEVENT
BEGIN:VEVENT
DTSTART;TZID=Indian/Mayotte:20230506T160000
DTEND;TZID=Indian/Mayotte:20230508T170000
DTSTAMP:20260419T213323
CREATED:20230408T052635Z
LAST-MODIFIED:20230408T052635Z
UID:12399-1683388800-1683565200@www.obullescroisiere-mayotte.yt
SUMMARY:Expédition Banc de l’Iris - Nord 4 plongées - groupe privé
DESCRIPTION:Venez explorer les sites au nord de Mayotte : le banc de l’Iris. 4 plongées à la recherche des grosse bébêtes de notre lagon ! Requin dagsit\, marteaux\, bouledogue\, obésus\, albimarginatus\, nourrice\, thon dent de chien\, thazard\, carangues\, mérou\, espadon…\nCompris entre 20 et 35 mètres de profondeurs\, il vous faut être PE40 minimum pour accéder à ces plongées exceptionnelles.
URL:https://www.obullescroisiere-mayotte.yt/evenement/expedition-banc-de-liris-nord-4-plongees-groupe-prive/
CATEGORIES:Expédition
ATTACH;FMTTYPE=image/jpeg:https://www.obullescroisiere-mayotte.yt/wp-content/uploads/2021/03/requin-iris-e1634754322856.jpg
END:VEVENT
BEGIN:VEVENT
DTSTART;TZID=Indian/Mayotte:20230512T160000
DTEND;TZID=Indian/Mayotte:20230515T070000
DTSTAMP:20260419T213323
CREATED:20230224T190504Z
LAST-MODIFIED:20230224T190504Z
UID:12353-1683907200-1684134000@www.obullescroisiere-mayotte.yt
SUMMARY:Expédition Zélée 4 plongées
DESCRIPTION:Partez à l’aventure sur ce récif mythique à 120 km des côtes Mahoraises. Après une nuit de navigations vous plongerez sur de vertigineux tombant foisonnant de vie\, rempli de surprises. 4 plongées sur deux jours à la rencontre des grands de ce monde…\nImportant : cette sortie s’adresse aux personnes aguerries à la mer. La première et troisième nuits se font durant la navigation\, la deuxième sur le banc de la zélée au mouillage\, ça peut donc être rouleur.\nEn cas de mauvaises conditions météo la sortie sera redirigée vers le banc de l’Iris.
URL:https://www.obullescroisiere-mayotte.yt/evenement/expedition-zelee-4-plongees-8/
CATEGORIES:Expédition
ATTACH;FMTTYPE=image/jpeg:https://www.obullescroisiere-mayotte.yt/wp-content/uploads/2021/03/requin-iris-e1634754322856.jpg
END:VEVENT
BEGIN:VEVENT
DTSTART;TZID=Indian/Mayotte:20230517T163000
DTEND;TZID=Indian/Mayotte:20230517T223000
DTSTAMP:20260419T213323
CREATED:20230408T053247Z
LAST-MODIFIED:20230408T053328Z
UID:12406-1684341000-1684362600@www.obullescroisiere-mayotte.yt
SUMMARY:Plongée de nuit\, sunset\, repas convivial à bord
DESCRIPTION:plongée de nuit\, rendez vous 16h30 au ponton de Mamoudzou\, suivie d’un repas à bord d’O’Bulle !
URL:https://www.obullescroisiere-mayotte.yt/evenement/plongee-de-nuit-sunset-repas-convivial-a-bord-6/
ATTACH;FMTTYPE=image/jpeg:https://www.obullescroisiere-mayotte.yt/wp-content/uploads/2021/01/O°Bulles_Nuit_Helena-Bernard-e1634753981869.jpeg
END:VEVENT
BEGIN:VEVENT
DTSTART;TZID=Indian/Mayotte:20230519T160000
DTEND;TZID=Indian/Mayotte:20230522T070000
DTSTAMP:20260419T213323
CREATED:20230408T054001Z
LAST-MODIFIED:20230408T054001Z
UID:12398-1684512000-1684738800@www.obullescroisiere-mayotte.yt
SUMMARY:Expédition Zélée 4 plongées
DESCRIPTION:Partez à l’aventure sur ce récif mythique à 120 km des côtes Mahoraises. Après une nuit de navigations vous plongerez sur de vertigineux tombant foisonnant de vie et rempli de surprises. 4 plongées en deux jours à la rencontre des grands de ce monde…\nImportant : cette sortie s’adresse aux personnes aguerries à la mer. La première et troisième nuits se font durant la navigation\, la deuxième sur le banc de la zélée. Le mouillage peut donc être rouleur.\nEn cas de mauvaises conditions météo la sortie sera redirigée vers le banc de l’Iris.
URL:https://www.obullescroisiere-mayotte.yt/evenement/expedition-zelee-4-plongees-9/
CATEGORIES:Expédition
ATTACH;FMTTYPE=image/jpeg:https://www.obullescroisiere-mayotte.yt/wp-content/uploads/2021/03/requin-iris-e1634754322856.jpg
END:VEVENT
BEGIN:VEVENT
DTSTART;TZID=Indian/Mayotte:20230524T163000
DTEND;TZID=Indian/Mayotte:20230524T223000
DTSTAMP:20260419T213323
CREATED:20230408T053324Z
LAST-MODIFIED:20230408T053324Z
UID:12405-1684945800-1684967400@www.obullescroisiere-mayotte.yt
SUMMARY:Plongée de nuit\, sunset\, repas convivial à bord
DESCRIPTION:plongée de nuit\, rendez vous 16h30 au ponton de Mamoudzou\, suivie d’un repas à bord d’O’Bulle !
URL:https://www.obullescroisiere-mayotte.yt/evenement/plongee-de-nuit-sunset-repas-convivial-a-bord-7/
ATTACH;FMTTYPE=image/jpeg:https://www.obullescroisiere-mayotte.yt/wp-content/uploads/2021/01/O°Bulles_Nuit_Helena-Bernard-e1634753981869.jpeg
END:VEVENT
BEGIN:VEVENT
DTSTART;TZID=Indian/Mayotte:20230526T160000
DTEND;TZID=Indian/Mayotte:20230530T070000
DTSTAMP:20260419T213323
CREATED:20230408T054736Z
LAST-MODIFIED:20230516T141750Z
UID:12416-1685116800-1685430000@www.obullescroisiere-mayotte.yt
SUMMARY:SPÉCIALE Expédition Zélée 6 plongées
DESCRIPTION:Partez à l’aventure sur ce récif mythique à 120 km des côtes Mahoraises. Après une nuit de navigations vous plongerez sur de vertigineux tombant foisonnant de vie\, rempli de surprises. 4 plongées sur deux jours à la rencontre des grands de ce monde…\nImportant : cette sortie s’adresse aux personnes aguerries à la mer. La première et troisième nuits se font durant la navigation\, la deuxième sur le banc de la zélée au mouillage\, ça peut donc être rouleur.\nEn cas de mauvaises conditions météo la sortie sera redirigée vers le banc de l’Iris.
URL:https://www.obullescroisiere-mayotte.yt/evenement/speciale-expedition-zelee-6-plongees/
CATEGORIES:Expédition
ATTACH;FMTTYPE=image/jpeg:https://www.obullescroisiere-mayotte.yt/wp-content/uploads/2021/03/requin-iris-e1634754322856.jpg
END:VEVENT
END:VCALENDAR