BEGIN:VCALENDAR
VERSION:2.0
PRODID:-//O&#039;Bulles Croisière - ECPv5.14.1//NONSGML v1.0//EN
CALSCALE:GREGORIAN
METHOD:PUBLISH
X-WR-CALNAME:O&#039;Bulles Croisière
X-ORIGINAL-URL:https://www.obullescroisiere-mayotte.yt
X-WR-CALDESC:évènements pour O&#039;Bulles Croisière
REFRESH-INTERVAL;VALUE=DURATION:PT1H
X-Robots-Tag:noindex
X-PUBLISHED-TTL:PT1H
BEGIN:VTIMEZONE
TZID:Indian/Mayotte
BEGIN:STANDARD
TZOFFSETFROM:+0300
TZOFFSETTO:+0300
TZNAME:EAT
DTSTART:20230101T000000
END:STANDARD
END:VTIMEZONE
BEGIN:VEVENT
DTSTART;TZID=Indian/Mayotte:20230203T160000
DTEND;TZID=Indian/Mayotte:20230206T070000
DTSTAMP:20260419T165305
CREATED:20221205T062806Z
LAST-MODIFIED:20221205T073723Z
UID:11961-1675440000-1675666800@www.obullescroisiere-mayotte.yt
SUMMARY:Expédition Zélée 4 plongées
DESCRIPTION:Expédition 4 plongées sur le banc de la Zélée.\nImportant : cette sortie s’adresse aux personnes aguerries à la mer. La première et troisième nuits se font durant la navigation\, la deuxième sur le banc de la zélée. Le mouillage peut donc être rouleur.\nEn cas de mauvaises conditions météo la sortie sera redirigée vers le banc de l’Iris.
URL:https://www.obullescroisiere-mayotte.yt/evenement/expedition-zelee-4-plongees-3/
CATEGORIES:Expédition
ATTACH;FMTTYPE=image/jpeg:https://www.obullescroisiere-mayotte.yt/wp-content/uploads/2021/03/requin-iris-e1634754322856.jpg
END:VEVENT
BEGIN:VEVENT
DTSTART;TZID=Indian/Mayotte:20230215T163000
DTEND;TZID=Indian/Mayotte:20230215T223000
DTSTAMP:20260419T165305
CREATED:20230103T103649Z
LAST-MODIFIED:20230103T110446Z
UID:12017-1676478600-1676500200@www.obullescroisiere-mayotte.yt
SUMMARY:Plongée de nuit\, sunset\, repas convivial à bord
DESCRIPTION:plongée de nuit\, rendez vous 16h30 au ponton de Mamoudzou\, suivie d’un repas à bord d’O’Bulle !
URL:https://www.obullescroisiere-mayotte.yt/evenement/plongee-de-nuit-sunset-repas-convivial-a-bord-3/
ATTACH;FMTTYPE=image/jpeg:https://www.obullescroisiere-mayotte.yt/wp-content/uploads/2021/01/O°Bulles_Nuit_Helena-Bernard-e1634753981869.jpeg
END:VEVENT
BEGIN:VEVENT
DTSTART;TZID=Indian/Mayotte:20230217T160000
DTEND;TZID=Indian/Mayotte:20230219T170000
DTSTAMP:20260419T165305
CREATED:20230103T102659Z
LAST-MODIFIED:20230103T102659Z
UID:12008-1676649600-1676826000@www.obullescroisiere-mayotte.yt
SUMMARY:Expédition Saziley - Sud 4 plongées
DESCRIPTION:Partez à la découverte de la passe Saziley sud et du grand récif inexploré du sud. Dépaysement garantit !
URL:https://www.obullescroisiere-mayotte.yt/evenement/expedition-saziley-sud-4-plongees/
CATEGORIES:Expédition
ATTACH;FMTTYPE=image/png:https://www.obullescroisiere-mayotte.yt/wp-content/uploads/2021/02/Capture-décran-2021-02-10-à-14.17.47.png
END:VEVENT
BEGIN:VEVENT
DTSTART;TZID=Indian/Mayotte:20230221T160000
DTEND;TZID=Indian/Mayotte:20230223T170000
DTSTAMP:20260419T165305
CREATED:20230103T103058Z
LAST-MODIFIED:20230103T103058Z
UID:12011-1676995200-1677171600@www.obullescroisiere-mayotte.yt
SUMMARY:Expédition Nord 4 plongées
DESCRIPTION:Plongez sur le récif du nord\, aux alentours de la passe Longoni et au commencement du banc de l’iris ouest !
URL:https://www.obullescroisiere-mayotte.yt/evenement/expedition-nord-4-plongees-6/
CATEGORIES:Expédition
ATTACH;FMTTYPE=image/png:https://www.obullescroisiere-mayotte.yt/wp-content/uploads/2021/02/Requin_Daxit_Gaby_BARATHIEU-1-e1634753860267.png
END:VEVENT
BEGIN:VEVENT
DTSTART;TZID=Indian/Mayotte:20230225T160000
DTEND;TZID=Indian/Mayotte:20230228T070000
DTSTAMP:20260419T165305
CREATED:20230103T103256Z
LAST-MODIFIED:20230103T103256Z
UID:12014-1677340800-1677567600@www.obullescroisiere-mayotte.yt
SUMMARY:Expédition Zélée 4 plongées
DESCRIPTION:Expédition 4 plongées sur le banc de la Zélée.\nImportant : cette sortie s’adresse aux personnes aguerries à la mer. La première et troisième nuits se font durant la navigation\, la deuxième sur le banc de la zélée. Le mouillage peut donc être rouleur.\nEn cas de mauvaises conditions météo la sortie sera redirigée vers le banc de l’Iris.
URL:https://www.obullescroisiere-mayotte.yt/evenement/expedition-zelee-4-plongees-4/
CATEGORIES:Expédition
ATTACH;FMTTYPE=image/jpeg:https://www.obullescroisiere-mayotte.yt/wp-content/uploads/2021/03/requin-iris-e1634754322856.jpg
END:VEVENT
END:VCALENDAR