BEGIN:VCALENDAR
VERSION:2.0
PRODID:-//O&#039;Bulles Croisière - ECPv5.14.1//NONSGML v1.0//EN
CALSCALE:GREGORIAN
METHOD:PUBLISH
X-WR-CALNAME:O&#039;Bulles Croisière
X-ORIGINAL-URL:https://www.obullescroisiere-mayotte.yt
X-WR-CALDESC:évènements pour O&#039;Bulles Croisière
REFRESH-INTERVAL;VALUE=DURATION:PT1H
X-Robots-Tag:noindex
X-PUBLISHED-TTL:PT1H
BEGIN:VTIMEZONE
TZID:Indian/Mayotte
BEGIN:STANDARD
TZOFFSETFROM:+0300
TZOFFSETTO:+0300
TZNAME:EAT
DTSTART:20230101T000000
END:STANDARD
END:VTIMEZONE
BEGIN:VEVENT
DTSTART;TZID=Indian/Mayotte:20230106T160000
DTEND;TZID=Indian/Mayotte:20230108T170000
DTSTAMP:20260419T152224
CREATED:20221117T190912Z
LAST-MODIFIED:20230102T122653Z
UID:11873-1673020800-1673197200@www.obullescroisiere-mayotte.yt
SUMMARY:Expédition Iris - Nord 4 plongées
DESCRIPTION:
URL:https://www.obullescroisiere-mayotte.yt/evenement/expedition-iris-nord-4-plongees-13/
CATEGORIES:Expédition
ATTACH;FMTTYPE=image/jpeg:https://www.obullescroisiere-mayotte.yt/wp-content/uploads/2021/03/requin-iris-e1634754322856.jpg
END:VEVENT
BEGIN:VEVENT
DTSTART;TZID=Indian/Mayotte:20230117T163000
DTEND;TZID=Indian/Mayotte:20230117T223000
DTSTAMP:20260419T152224
CREATED:20221117T190848Z
LAST-MODIFIED:20230115T144144Z
UID:11888-1673973000-1673994600@www.obullescroisiere-mayotte.yt
SUMMARY:Plongée de nuit\, sunset\, repas convivial à bord
DESCRIPTION:plongée de nuit\, rendez vous 16h30 au ponton de Mamoudzou\, suivie d’un repas à bord d’O’Bulle !
URL:https://www.obullescroisiere-mayotte.yt/evenement/plongee-de-nuit-sunset-repas-convivial-a-bord-2/
ATTACH;FMTTYPE=image/jpeg:https://www.obullescroisiere-mayotte.yt/wp-content/uploads/2021/01/O°Bulles_Nuit_Helena-Bernard-e1634753981869.jpeg
END:VEVENT
BEGIN:VEVENT
DTSTART;TZID=Indian/Mayotte:20230118T163000
DTEND;TZID=Indian/Mayotte:20230118T223000
DTSTAMP:20260419T152224
CREATED:20230115T143246Z
LAST-MODIFIED:20230115T160351Z
UID:12157-1674059400-1674081000@www.obullescroisiere-mayotte.yt
SUMMARY:Plongée de nuit\, sunset\, repas convivial à bord
DESCRIPTION:plongée de nuit\, rendez vous 17h00 au ponton de Mamoudzou\, suivie d’un repas à bord d’O’Bulle !
URL:https://www.obullescroisiere-mayotte.yt/evenement/plongee-de-nuit-sunset-repas-convivial-a-bord-5/
ATTACH;FMTTYPE=image/jpeg:https://www.obullescroisiere-mayotte.yt/wp-content/uploads/2021/01/O°Bulles_Nuit_Helena-Bernard-e1634753981869.jpeg
END:VEVENT
BEGIN:VEVENT
DTSTART;TZID=Indian/Mayotte:20230120T160000
DTEND;TZID=Indian/Mayotte:20230123T070000
DTSTAMP:20260419T152224
CREATED:20221117T190904Z
LAST-MODIFIED:20221117T191741Z
UID:11884-1674230400-1674457200@www.obullescroisiere-mayotte.yt
SUMMARY:Expédition Zélée 4 plongées
DESCRIPTION:Expédition 4 plongées sur le banc de la Zélée.\nImportant : cette sortie s’adresse aux personnes aguerries à la mer. La première et troisième nuits se font durant la navigation\, la deuxième sur le banc de la zélée. Le mouillage peut donc être rouleur.
URL:https://www.obullescroisiere-mayotte.yt/evenement/expedition-zelee-4-plongees-2/
CATEGORIES:Expédition
ATTACH;FMTTYPE=image/jpeg:https://www.obullescroisiere-mayotte.yt/wp-content/uploads/2021/03/requin-iris-e1634754322856.jpg
END:VEVENT
BEGIN:VEVENT
DTSTART;TZID=Indian/Mayotte:20230127T160000
DTEND;TZID=Indian/Mayotte:20230129T170000
DTSTAMP:20260419T152224
CREATED:20221117T190915Z
LAST-MODIFIED:20230102T122938Z
UID:11874-1674835200-1675011600@www.obullescroisiere-mayotte.yt
SUMMARY:Expédition Iris - Nord 4 plongées
DESCRIPTION:
URL:https://www.obullescroisiere-mayotte.yt/evenement/expedition-iris-nord-4-plongees-14/
CATEGORIES:Expédition
ATTACH;FMTTYPE=image/jpeg:https://www.obullescroisiere-mayotte.yt/wp-content/uploads/2021/03/requin-iris-e1634754322856.jpg
END:VEVENT
END:VCALENDAR