BEGIN:VCALENDAR
VERSION:2.0
PRODID:-//O&#039;Bulles Croisière - ECPv5.14.1//NONSGML v1.0//EN
CALSCALE:GREGORIAN
METHOD:PUBLISH
X-WR-CALNAME:O&#039;Bulles Croisière
X-ORIGINAL-URL:https://www.obullescroisiere-mayotte.yt
X-WR-CALDESC:évènements pour O&#039;Bulles Croisière
REFRESH-INTERVAL;VALUE=DURATION:PT1H
X-Robots-Tag:noindex
X-PUBLISHED-TTL:PT1H
BEGIN:VTIMEZONE
TZID:Indian/Mayotte
BEGIN:STANDARD
TZOFFSETFROM:+0300
TZOFFSETTO:+0300
TZNAME:EAT
DTSTART:20220101T000000
END:STANDARD
END:VTIMEZONE
BEGIN:VEVENT
DTSTART;TZID=Indian/Mayotte:20221101T160000
DTEND;TZID=Indian/Mayotte:20221103T170000
DTSTAMP:20260419T152224
CREATED:20221002T171527Z
LAST-MODIFIED:20221002T174054Z
UID:11785-1667318400-1667494800@www.obullescroisiere-mayotte.yt
SUMMARY:Expédition Nord 4 plongées
DESCRIPTION:
URL:https://www.obullescroisiere-mayotte.yt/evenement/expedition-nord-4-plongees-4/
CATEGORIES:Expédition
ATTACH;FMTTYPE=image/jpeg:https://www.obullescroisiere-mayotte.yt/wp-content/uploads/2021/03/requin-iris-e1634754322856.jpg
END:VEVENT
BEGIN:VEVENT
DTSTART;TZID=Indian/Mayotte:20221104T160000
DTEND;TZID=Indian/Mayotte:20221106T170000
DTSTAMP:20260419T152224
CREATED:20221002T174050Z
LAST-MODIFIED:20221002T174056Z
UID:11784-1667577600-1667754000@www.obullescroisiere-mayotte.yt
SUMMARY:Expédition Nord 4 plongées
DESCRIPTION:
URL:https://www.obullescroisiere-mayotte.yt/evenement/expedition-nord-4-plongees-5/
CATEGORIES:Expédition
ATTACH;FMTTYPE=image/jpeg:https://www.obullescroisiere-mayotte.yt/wp-content/uploads/2021/03/requin-iris-e1634754322856.jpg
END:VEVENT
BEGIN:VEVENT
DTSTART;TZID=Indian/Mayotte:20221107T160000
DTEND;TZID=Indian/Mayotte:20221109T170000
DTSTAMP:20260419T152224
CREATED:20221002T174051Z
LAST-MODIFIED:20221002T174059Z
UID:11783-1667836800-1668013200@www.obullescroisiere-mayotte.yt
SUMMARY:Expédition Iris - Nord 4 plongées
DESCRIPTION:
URL:https://www.obullescroisiere-mayotte.yt/evenement/expedition-iris-nord-4-plongees-9/
CATEGORIES:Expédition
ATTACH;FMTTYPE=image/jpeg:https://www.obullescroisiere-mayotte.yt/wp-content/uploads/2021/03/requin-iris-e1634754322856.jpg
END:VEVENT
BEGIN:VEVENT
DTSTART;TZID=Indian/Mayotte:20221116T163000
DTEND;TZID=Indian/Mayotte:20221116T223000
DTSTAMP:20260419T152224
CREATED:20220817T080603Z
LAST-MODIFIED:20220817T081050Z
UID:11692-1668616200-1668637800@www.obullescroisiere-mayotte.yt
SUMMARY:Plongée de nuit\, sunset\, repas convivial à bord
DESCRIPTION:plongée de nuit\, rendez vous 16h30 au ponton de Mamoudzou\, suivie d’un repas à bord d’O’Bulle !
URL:https://www.obullescroisiere-mayotte.yt/evenement/plongee-de-nuit-sunset-repas-convivial-a-bord/
ATTACH;FMTTYPE=image/jpeg:https://www.obullescroisiere-mayotte.yt/wp-content/uploads/2021/01/O°Bulles_Nuit_Helena-Bernard-e1634753981869.jpeg
END:VEVENT
BEGIN:VEVENT
DTSTART;TZID=Indian/Mayotte:20221118T160000
DTEND;TZID=Indian/Mayotte:20221121T070000
DTSTAMP:20260419T152224
CREATED:20221002T174100Z
LAST-MODIFIED:20221002T174100Z
UID:11782-1668787200-1669014000@www.obullescroisiere-mayotte.yt
SUMMARY:Expédition Zélée 4 plongées
DESCRIPTION:Expédition 4 plongées sur le banc de la Zélée.\nAttention\, cette sortie s’adresse aux personnes aguerries à la mer. La première et troisième nuits se font durant la navigation\, la deuxième sur le banc de la zélée. Le mouillage peut donc être rouleur.
URL:https://www.obullescroisiere-mayotte.yt/evenement/expedition-zelee-4-plongees/
CATEGORIES:Expédition
ATTACH;FMTTYPE=image/jpeg:https://www.obullescroisiere-mayotte.yt/wp-content/uploads/2021/03/requin-iris-e1634754322856.jpg
END:VEVENT
END:VCALENDAR