BEGIN:VCALENDAR
VERSION:2.0
PRODID:-//O&#039;Bulles Croisière - ECPv5.14.1//NONSGML v1.0//EN
CALSCALE:GREGORIAN
METHOD:PUBLISH
X-WR-CALNAME:O&#039;Bulles Croisière
X-ORIGINAL-URL:https://www.obullescroisiere-mayotte.yt
X-WR-CALDESC:évènements pour O&#039;Bulles Croisière
REFRESH-INTERVAL;VALUE=DURATION:PT1H
X-Robots-Tag:noindex
X-PUBLISHED-TTL:PT1H
BEGIN:VTIMEZONE
TZID:Indian/Mayotte
BEGIN:STANDARD
TZOFFSETFROM:+0300
TZOFFSETTO:+0300
TZNAME:EAT
DTSTART:20220101T000000
END:STANDARD
END:VTIMEZONE
BEGIN:VEVENT
DTSTART;TZID=Indian/Mayotte:20220930T160000
DTEND;TZID=Indian/Mayotte:20221002T170000
DTSTAMP:20260419T165138
CREATED:20220719T131613Z
LAST-MODIFIED:20220825T060228Z
UID:11636-1664553600-1664730000@www.obullescroisiere-mayotte.yt
SUMMARY:Expédition Iris - Nord 4 plongées
DESCRIPTION:
URL:https://www.obullescroisiere-mayotte.yt/evenement/expedition-iris-nord-4-plongees-5/
CATEGORIES:Expédition
ATTACH;FMTTYPE=image/jpeg:https://www.obullescroisiere-mayotte.yt/wp-content/uploads/2021/03/requin-iris-e1634754322856.jpg
END:VEVENT
BEGIN:VEVENT
DTSTART;TZID=Indian/Mayotte:20221003T160000
DTEND;TZID=Indian/Mayotte:20221005T170000
DTSTAMP:20260419T165138
CREATED:20220719T132354Z
LAST-MODIFIED:20220719T132629Z
UID:11643-1664812800-1664989200@www.obullescroisiere-mayotte.yt
SUMMARY:Expédition Iris - Nord 4 plongées
DESCRIPTION:
URL:https://www.obullescroisiere-mayotte.yt/evenement/expedition-iris-nord-4-plongees-8/
CATEGORIES:Expédition
ATTACH;FMTTYPE=image/jpeg:https://www.obullescroisiere-mayotte.yt/wp-content/uploads/2021/03/requin-iris-e1634754322856.jpg
END:VEVENT
BEGIN:VEVENT
DTSTART;TZID=Indian/Mayotte:20221010T160000
DTEND;TZID=Indian/Mayotte:20221012T170000
DTSTAMP:20260419T165138
CREATED:20220719T132346Z
LAST-MODIFIED:20220719T132644Z
UID:11642-1665417600-1665594000@www.obullescroisiere-mayotte.yt
SUMMARY:Expédition Iris - Nord 4 plongées
DESCRIPTION:
URL:https://www.obullescroisiere-mayotte.yt/evenement/expedition-iris-nord-4-plongees-7/
CATEGORIES:Expédition
ATTACH;FMTTYPE=image/jpeg:https://www.obullescroisiere-mayotte.yt/wp-content/uploads/2021/03/requin-iris-e1634754322856.jpg
END:VEVENT
BEGIN:VEVENT
DTSTART;TZID=Indian/Mayotte:20221014T160000
DTEND;TZID=Indian/Mayotte:20221016T170000
DTSTAMP:20260419T165138
CREATED:20220719T132341Z
LAST-MODIFIED:20220719T132701Z
UID:11641-1665763200-1665939600@www.obullescroisiere-mayotte.yt
SUMMARY:Expédition Iris - Nord 4 plongées
DESCRIPTION:
URL:https://www.obullescroisiere-mayotte.yt/evenement/expedition-iris-nord-4-plongees-6/
CATEGORIES:Expédition
ATTACH;FMTTYPE=image/jpeg:https://www.obullescroisiere-mayotte.yt/wp-content/uploads/2021/03/requin-iris-e1634754322856.jpg
END:VEVENT
END:VCALENDAR