BEGIN:VCALENDAR
VERSION:2.0
PRODID:-//O&#039;Bulles Croisière - ECPv5.14.1//NONSGML v1.0//EN
CALSCALE:GREGORIAN
METHOD:PUBLISH
X-WR-CALNAME:O&#039;Bulles Croisière
X-ORIGINAL-URL:https://www.obullescroisiere-mayotte.yt
X-WR-CALDESC:évènements pour O&#039;Bulles Croisière
REFRESH-INTERVAL;VALUE=DURATION:PT1H
X-Robots-Tag:noindex
X-PUBLISHED-TTL:PT1H
BEGIN:VTIMEZONE
TZID:Indian/Mayotte
BEGIN:STANDARD
TZOFFSETFROM:+0300
TZOFFSETTO:+0300
TZNAME:EAT
DTSTART:20220101T000000
END:STANDARD
END:VTIMEZONE
BEGIN:VEVENT
DTSTART;TZID=Indian/Mayotte:20220804T163000
DTEND;TZID=Indian/Mayotte:20220804T223000
DTSTAMP:20260419T194622
CREATED:20220601T122937Z
LAST-MODIFIED:20220601T124010Z
UID:11144-1659630600-1659652200@www.obullescroisiere-mayotte.yt
SUMMARY:Plongée de nuit\, sunset\, grillade à bord
DESCRIPTION:plongée de nuit\, rendez vous 16h30 au ponton de Mamoudzou\, suivie d’un repas à bord d’O’Bulle !
URL:https://www.obullescroisiere-mayotte.yt/evenement/plongee-de-nuit-sunset-grillade-a-bord-8/
ATTACH;FMTTYPE=image/jpeg:https://www.obullescroisiere-mayotte.yt/wp-content/uploads/2021/01/O°Bulles_Nuit_Helena-Bernard-e1634753981869.jpeg
END:VEVENT
BEGIN:VEVENT
DTSTART;TZID=Indian/Mayotte:20220805T160000
DTEND;TZID=Indian/Mayotte:20220807T170000
DTSTAMP:20260419T194622
CREATED:20220601T103323Z
LAST-MODIFIED:20220601T122315Z
UID:11122-1659715200-1659891600@www.obullescroisiere-mayotte.yt
SUMMARY:Stage Progression Apnée deux jours
DESCRIPTION:ce stage s’adresse aux apnéistes ayant déjà des bases en apnée de descente. Au programme : session d’apnée sur câble en bi-palme\, mono palme\, immersion libre\, sans palme\, gueuse freinée.
URL:https://www.obullescroisiere-mayotte.yt/evenement/expedition-apnee/
CATEGORIES:Expédition
ATTACH;FMTTYPE=image/png:https://www.obullescroisiere-mayotte.yt/wp-content/uploads/2021/02/Apnée_OBulles-e1634753734857.png
END:VEVENT
BEGIN:VEVENT
DTSTART;TZID=Indian/Mayotte:20220809T073000
DTEND;TZID=Indian/Mayotte:20220809T130000
DTSTAMP:20260419T194622
CREATED:20220601T144751Z
LAST-MODIFIED:20220601T144751Z
UID:11197-1660030200-1660050000@www.obullescroisiere-mayotte.yt
SUMMARY:Sortie double plongée "explo et formation"
DESCRIPTION:Réservation par téléphone au 0639 65 42 15\nRendez vous à 7h30 pour un départ du ponton de Mamoudzou. Au programme : deux plongées sur les sites de l’est (de Longoni à la passe Bandrélé\, essentiellement passe en S et ses alentours) un petit déjeuner à l’allée et un brunch sur le retour prévu aux environs de 13h30 !\nLe tout en grand confort\, avec bain de soleil et douche chaude !!!
URL:https://www.obullescroisiere-mayotte.yt/evenement/sortie-double-plongee-explo-et-formation-4/
LOCATION:Mamoudzou\, M'tsapéré\, Mamoudzou\, Mayotte
ATTACH;FMTTYPE=image/jpeg:https://www.obullescroisiere-mayotte.yt/wp-content/uploads/2021/02/Plongeurs_Mayotte_OBulles-e1614329798535.jpg
END:VEVENT
BEGIN:VEVENT
DTSTART;TZID=Indian/Mayotte:20220810T073000
DTEND;TZID=Indian/Mayotte:20220810T130000
DTSTAMP:20260419T194622
CREATED:20220601T144804Z
LAST-MODIFIED:20220601T144804Z
UID:11196-1660116600-1660136400@www.obullescroisiere-mayotte.yt
SUMMARY:Sortie double plongée "explo et formation"
DESCRIPTION:Réservation par téléphone au 0639 65 42 15\nRendez vous à 7h30 pour un départ du ponton de Mamoudzou. Au programme : deux plongées sur les sites de l’est (de Longoni à la passe Bandrélé\, essentiellement passe en S et ses alentours) un petit déjeuner à l’allée et un brunch sur le retour prévu aux environs de 13h30 !\nLe tout en grand confort\, avec bain de soleil et douche chaude !!!
URL:https://www.obullescroisiere-mayotte.yt/evenement/sortie-double-plongee-explo-et-formation-5/
LOCATION:Mamoudzou\, M'tsapéré\, Mamoudzou\, Mayotte
ATTACH;FMTTYPE=image/jpeg:https://www.obullescroisiere-mayotte.yt/wp-content/uploads/2021/02/Plongeurs_Mayotte_OBulles-e1614329798535.jpg
END:VEVENT
BEGIN:VEVENT
DTSTART;TZID=Indian/Mayotte:20220811T073000
DTEND;TZID=Indian/Mayotte:20220811T130000
DTSTAMP:20260419T194622
CREATED:20220601T144818Z
LAST-MODIFIED:20220601T144818Z
UID:11195-1660203000-1660222800@www.obullescroisiere-mayotte.yt
SUMMARY:Sortie double plongée "explo et formation"
DESCRIPTION:Réservation par téléphone au 0639 65 42 15\nRendez vous à 7h30 pour un départ du ponton de Mamoudzou. Au programme : deux plongées sur les sites de l’est (de Longoni à la passe Bandrélé\, essentiellement passe en S et ses alentours) un petit déjeuner à l’allée et un brunch sur le retour prévu aux environs de 13h30 !\nLe tout en grand confort\, avec bain de soleil et douche chaude !!!
URL:https://www.obullescroisiere-mayotte.yt/evenement/sortie-double-plongee-explo-et-formation-6/
LOCATION:Mamoudzou\, M'tsapéré\, Mamoudzou\, Mayotte
ATTACH;FMTTYPE=image/jpeg:https://www.obullescroisiere-mayotte.yt/wp-content/uploads/2021/02/Plongeurs_Mayotte_OBulles-e1614329798535.jpg
END:VEVENT
BEGIN:VEVENT
DTSTART;TZID=Indian/Mayotte:20220812T160000
DTEND;TZID=Indian/Mayotte:20220814T170000
DTSTAMP:20260419T194622
CREATED:20220601T100710Z
LAST-MODIFIED:20220601T100710Z
UID:11097-1660320000-1660496400@www.obullescroisiere-mayotte.yt
SUMMARY:Expédition Nord 4 plongées tous niveaux (N1 et plus)
DESCRIPTION:
URL:https://www.obullescroisiere-mayotte.yt/evenement/expedition-nord-4-plongees-tous-niveaux-n1-et-plus/
CATEGORIES:Expédition
ATTACH;FMTTYPE=image/jpeg:https://www.obullescroisiere-mayotte.yt/wp-content/uploads/2021/03/requin-iris-e1634754322856.jpg
END:VEVENT
BEGIN:VEVENT
DTSTART;TZID=Indian/Mayotte:20220816T073000
DTEND;TZID=Indian/Mayotte:20220816T130000
DTSTAMP:20260419T194622
CREATED:20220601T144837Z
LAST-MODIFIED:20220601T144837Z
UID:11194-1660635000-1660654800@www.obullescroisiere-mayotte.yt
SUMMARY:Sortie double plongée "explo et formation"
DESCRIPTION:Réservation par téléphone au 0639 65 42 15\nRendez vous à 7h30 pour un départ du ponton de Mamoudzou. Au programme : deux plongées sur les sites de l’est (de Longoni à la passe Bandrélé\, essentiellement passe en S et ses alentours) un petit déjeuner à l’allée et un brunch sur le retour prévu aux environs de 13h30 !\nLe tout en grand confort\, avec bain de soleil et douche chaude !!!
URL:https://www.obullescroisiere-mayotte.yt/evenement/sortie-double-plongee-explo-et-formation-7/
LOCATION:Mamoudzou\, M'tsapéré\, Mamoudzou\, Mayotte
ATTACH;FMTTYPE=image/jpeg:https://www.obullescroisiere-mayotte.yt/wp-content/uploads/2021/02/Plongeurs_Mayotte_OBulles-e1614329798535.jpg
END:VEVENT
BEGIN:VEVENT
DTSTART;TZID=Indian/Mayotte:20220817T073000
DTEND;TZID=Indian/Mayotte:20220817T130000
DTSTAMP:20260419T194622
CREATED:20220601T145043Z
LAST-MODIFIED:20220601T145043Z
UID:11212-1660721400-1660741200@www.obullescroisiere-mayotte.yt
SUMMARY:Sortie double plongée "explo et formation"
DESCRIPTION:Réservation par téléphone au 0639 65 42 15\nRendez vous à 7h30 pour un départ du ponton de Mamoudzou. Au programme : deux plongées sur les sites de l’est (de Longoni à la passe Bandrélé\, essentiellement passe en S et ses alentours) un petit déjeuner à l’allée et un brunch sur le retour prévu aux environs de 13h30 !\nLe tout en grand confort\, avec bain de soleil et douche chaude !!!
URL:https://www.obullescroisiere-mayotte.yt/evenement/sortie-double-plongee-explo-et-formation-8/
LOCATION:Mamoudzou\, M'tsapéré\, Mamoudzou\, Mayotte
ATTACH;FMTTYPE=image/jpeg:https://www.obullescroisiere-mayotte.yt/wp-content/uploads/2021/02/Plongeurs_Mayotte_OBulles-e1614329798535.jpg
END:VEVENT
BEGIN:VEVENT
DTSTART;TZID=Indian/Mayotte:20220818T163000
DTEND;TZID=Indian/Mayotte:20220818T223000
DTSTAMP:20260419T194622
CREATED:20220601T123515Z
LAST-MODIFIED:20220601T123858Z
UID:11152-1660840200-1660861800@www.obullescroisiere-mayotte.yt
SUMMARY:Plongée de nuit\, sunset\, grillade à bord
DESCRIPTION:plongée de nuit\, rendez vous 16h30 au ponton de Mamoudzou\, suivie d’un repas à bord d’O’Bulle !
URL:https://www.obullescroisiere-mayotte.yt/evenement/plongee-de-nuit-sunset-grillade-a-bord-9/
ATTACH;FMTTYPE=image/jpeg:https://www.obullescroisiere-mayotte.yt/wp-content/uploads/2021/01/O°Bulles_Nuit_Helena-Bernard-e1634753981869.jpeg
END:VEVENT
BEGIN:VEVENT
DTSTART;TZID=Indian/Mayotte:20220819T160000
DTEND;TZID=Indian/Mayotte:20220821T170000
DTSTAMP:20260419T194622
CREATED:20220601T103544Z
LAST-MODIFIED:20220601T122307Z
UID:11125-1660924800-1661101200@www.obullescroisiere-mayotte.yt
SUMMARY:Stage Progression Apnée deux jours
DESCRIPTION:ce stage s’adresse aux apnéistes ayant déjà des bases en apnée de descente. Au programme : session d’apnée sur câble en bi-palme\, mono palme\, immersion libre\, sans palme\, gueuse freinée.
URL:https://www.obullescroisiere-mayotte.yt/evenement/stage-apnee-deux-jours/
CATEGORIES:Expédition
ATTACH;FMTTYPE=image/png:https://www.obullescroisiere-mayotte.yt/wp-content/uploads/2021/02/Apnée_OBulles-e1634753734857.png
END:VEVENT
BEGIN:VEVENT
DTSTART;TZID=Indian/Mayotte:20220823T073000
DTEND;TZID=Indian/Mayotte:20220823T130000
DTSTAMP:20260419T194622
CREATED:20220601T145053Z
LAST-MODIFIED:20220601T145135Z
UID:11211-1661239800-1661259600@www.obullescroisiere-mayotte.yt
SUMMARY:Sortie double plongée "explo et formation"
DESCRIPTION:Réservation par téléphone au 0639 65 42 15\nRendez vous à 7h30 pour un départ du ponton de Mamoudzou. Au programme : deux plongées sur les sites de l’est (de Longoni à la passe Bandrélé\, essentiellement passe en S et ses alentours) un petit déjeuner à l’allée et un brunch sur le retour prévu aux environs de 13h30 !\nLe tout en grand confort\, avec bain de soleil et douche chaude !!!
URL:https://www.obullescroisiere-mayotte.yt/evenement/sortie-double-plongee-explo-et-formation-9/
LOCATION:Mamoudzou\, M'tsapéré\, Mamoudzou\, Mayotte
ATTACH;FMTTYPE=image/jpeg:https://www.obullescroisiere-mayotte.yt/wp-content/uploads/2021/02/Plongeurs_Mayotte_OBulles-e1614329798535.jpg
END:VEVENT
BEGIN:VEVENT
DTSTART;TZID=Indian/Mayotte:20220824T073000
DTEND;TZID=Indian/Mayotte:20220824T130000
DTSTAMP:20260419T194622
CREATED:20220601T145103Z
LAST-MODIFIED:20220601T145103Z
UID:11210-1661326200-1661346000@www.obullescroisiere-mayotte.yt
SUMMARY:Sortie double plongée "explo et formation"
DESCRIPTION:Réservation par téléphone au 0639 65 42 15\nRendez vous à 7h30 pour un départ du ponton de Mamoudzou. Au programme : deux plongées sur les sites de l’est (de Longoni à la passe Bandrélé\, essentiellement passe en S et ses alentours) un petit déjeuner à l’allée et un brunch sur le retour prévu aux environs de 13h30 !\nLe tout en grand confort\, avec bain de soleil et douche chaude !!!
URL:https://www.obullescroisiere-mayotte.yt/evenement/sortie-double-plongee-explo-et-formation-10/
LOCATION:Mamoudzou\, M'tsapéré\, Mamoudzou\, Mayotte
ATTACH;FMTTYPE=image/jpeg:https://www.obullescroisiere-mayotte.yt/wp-content/uploads/2021/02/Plongeurs_Mayotte_OBulles-e1614329798535.jpg
END:VEVENT
BEGIN:VEVENT
DTSTART;TZID=Indian/Mayotte:20220825T073000
DTEND;TZID=Indian/Mayotte:20220825T130000
DTSTAMP:20260419T194622
CREATED:20220601T145121Z
LAST-MODIFIED:20220601T145205Z
UID:11209-1661412600-1661432400@www.obullescroisiere-mayotte.yt
SUMMARY:Sortie double plongée "explo et formation"
DESCRIPTION:Réservation par téléphone au 0639 65 42 15\nRendez vous à 7h30 pour un départ du ponton de Mamoudzou. Au programme : deux plongées sur les sites de l’est (de Longoni à la passe Bandrélé\, essentiellement passe en S et ses alentours) un petit déjeuner à l’allée et un brunch sur le retour prévu aux environs de 13h30 !\nLe tout en grand confort\, avec bain de soleil et douche chaude !!!
URL:https://www.obullescroisiere-mayotte.yt/evenement/sortie-double-plongee-explo-et-formation-11/
LOCATION:Mamoudzou\, M'tsapéré\, Mamoudzou\, Mayotte
ATTACH;FMTTYPE=image/jpeg:https://www.obullescroisiere-mayotte.yt/wp-content/uploads/2021/02/Plongeurs_Mayotte_OBulles-e1614329798535.jpg
END:VEVENT
BEGIN:VEVENT
DTSTART;TZID=Indian/Mayotte:20220826T073000
DTEND;TZID=Indian/Mayotte:20220826T130000
DTSTAMP:20260419T194622
CREATED:20220601T145226Z
LAST-MODIFIED:20220601T145226Z
UID:11208-1661499000-1661518800@www.obullescroisiere-mayotte.yt
SUMMARY:Sortie double plongée "explo et formation"
DESCRIPTION:Réservation par téléphone au 0639 65 42 15\nRendez vous à 7h30 pour un départ du ponton de Mamoudzou. Au programme : deux plongées sur les sites de l’est (de Longoni à la passe Bandrélé\, essentiellement passe en S et ses alentours) un petit déjeuner à l’allée et un brunch sur le retour prévu aux environs de 13h30 !\nLe tout en grand confort\, avec bain de soleil et douche chaude !!!
URL:https://www.obullescroisiere-mayotte.yt/evenement/sortie-double-plongee-explo-et-formation-12/
LOCATION:Mamoudzou\, M'tsapéré\, Mamoudzou\, Mayotte
ATTACH;FMTTYPE=image/jpeg:https://www.obullescroisiere-mayotte.yt/wp-content/uploads/2021/02/Plongeurs_Mayotte_OBulles-e1614329798535.jpg
END:VEVENT
BEGIN:VEVENT
DTSTART;TZID=Indian/Mayotte:20220827T073000
DTEND;TZID=Indian/Mayotte:20220827T130000
DTSTAMP:20260419T194622
CREATED:20220601T145235Z
LAST-MODIFIED:20220601T145235Z
UID:11207-1661585400-1661605200@www.obullescroisiere-mayotte.yt
SUMMARY:Sortie double plongée "explo et formation"
DESCRIPTION:Réservation par téléphone au 0639 65 42 15\nRendez vous à 7h30 pour un départ du ponton de Mamoudzou. Au programme : deux plongées sur les sites de l’est (de Longoni à la passe Bandrélé\, essentiellement passe en S et ses alentours) un petit déjeuner à l’allée et un brunch sur le retour prévu aux environs de 13h30 !\nLe tout en grand confort\, avec bain de soleil et douche chaude !!!
URL:https://www.obullescroisiere-mayotte.yt/evenement/sortie-double-plongee-explo-et-formation-13/
LOCATION:Mamoudzou\, M'tsapéré\, Mamoudzou\, Mayotte
ATTACH;FMTTYPE=image/jpeg:https://www.obullescroisiere-mayotte.yt/wp-content/uploads/2021/02/Plongeurs_Mayotte_OBulles-e1614329798535.jpg
END:VEVENT
BEGIN:VEVENT
DTSTART;TZID=Indian/Mayotte:20220828T080000
DTEND;TZID=Indian/Mayotte:20220828T170000
DTSTAMP:20260419T194622
CREATED:20220601T125159Z
LAST-MODIFIED:20220601T125159Z
UID:11161-1661673600-1661706000@www.obullescroisiere-mayotte.yt
SUMMARY:Journée O'Lagon snorkeling et plongée
DESCRIPTION:Passez une journée à bord d’O’Bulle à la découverte des récifs du lagon en snorkeling avec un repas grillade. Possibilité de faire une plongée bouteille ou un baptême de plongée !
URL:https://www.obullescroisiere-mayotte.yt/evenement/journee-olagon-snorkeling-et-plongee-4/
ATTACH;FMTTYPE=image/jpeg:https://www.obullescroisiere-mayotte.yt/wp-content/uploads/2021/01/IMG_0720.jpg
END:VEVENT
BEGIN:VEVENT
DTSTART;TZID=Indian/Mayotte:20220830T073000
DTEND;TZID=Indian/Mayotte:20220830T130000
DTSTAMP:20260419T194622
CREATED:20220601T145252Z
LAST-MODIFIED:20220601T145252Z
UID:11206-1661844600-1661864400@www.obullescroisiere-mayotte.yt
SUMMARY:Sortie double plongée "explo et formation"
DESCRIPTION:Réservation par téléphone au 0639 65 42 15\nRendez vous à 7h30 pour un départ du ponton de Mamoudzou. Au programme : deux plongées sur les sites de l’est (de Longoni à la passe Bandrélé\, essentiellement passe en S et ses alentours) un petit déjeuner à l’allée et un brunch sur le retour prévu aux environs de 13h30 !\nLe tout en grand confort\, avec bain de soleil et douche chaude !!!
URL:https://www.obullescroisiere-mayotte.yt/evenement/sortie-double-plongee-explo-et-formation-14/
LOCATION:Mamoudzou\, M'tsapéré\, Mamoudzou\, Mayotte
ATTACH;FMTTYPE=image/jpeg:https://www.obullescroisiere-mayotte.yt/wp-content/uploads/2021/02/Plongeurs_Mayotte_OBulles-e1614329798535.jpg
END:VEVENT
BEGIN:VEVENT
DTSTART;TZID=Indian/Mayotte:20220831T080000
DTEND;TZID=Indian/Mayotte:20220831T170000
DTSTAMP:20260419T194622
CREATED:20220601T130207Z
LAST-MODIFIED:20220601T130207Z
UID:11176-1661932800-1661965200@www.obullescroisiere-mayotte.yt
SUMMARY:Journée Apnée
DESCRIPTION:Journée Apnée à bord d’O’Bulle avec repas de midi. Ces journées s’adressent aux personnes déjà à l’aise dans l’eau et désirant découvrir l’apnée de descente. ( pré-requis : savoir équilibrer ses oreilles\, utiliser son P-M-T)\nProgramme : deux sessions de découverte – perfectionnement apnée sur cable
URL:https://www.obullescroisiere-mayotte.yt/evenement/journee-apnee-2/
ATTACH;FMTTYPE=image/png:https://www.obullescroisiere-mayotte.yt/wp-content/uploads/2021/02/Apnée_OBulles-e1634753734857.png
END:VEVENT
END:VCALENDAR