BEGIN:VCALENDAR
VERSION:2.0
PRODID:-//O&#039;Bulles Croisière - ECPv5.14.1//NONSGML v1.0//EN
CALSCALE:GREGORIAN
METHOD:PUBLISH
X-WR-CALNAME:O&#039;Bulles Croisière
X-ORIGINAL-URL:https://www.obullescroisiere-mayotte.yt
X-WR-CALDESC:évènements pour O&#039;Bulles Croisière
REFRESH-INTERVAL;VALUE=DURATION:PT1H
X-Robots-Tag:noindex
X-PUBLISHED-TTL:PT1H
BEGIN:VTIMEZONE
TZID:Indian/Mayotte
BEGIN:STANDARD
TZOFFSETFROM:+0300
TZOFFSETTO:+0300
TZNAME:EAT
DTSTART:20220101T000000
END:STANDARD
END:VTIMEZONE
BEGIN:VEVENT
DTSTART;TZID=Indian/Mayotte:20220401T160000
DTEND;TZID=Indian/Mayotte:20220404T170000
DTSTAMP:20260420T013739
CREATED:20220317T135418Z
LAST-MODIFIED:20220329T081542Z
UID:10739-1648828800-1649091600@www.obullescroisiere-mayotte.yt
SUMMARY:Expédition banc de l'Iris
DESCRIPTION:
URL:https://www.obullescroisiere-mayotte.yt/evenement/expedition-geyser-zelee/
CATEGORIES:Expédition
ATTACH;FMTTYPE=image/jpeg:https://www.obullescroisiere-mayotte.yt/wp-content/uploads/2021/03/requin-iris-e1634754322856.jpg
END:VEVENT
BEGIN:VEVENT
DTSTART;TZID=Indian/Mayotte:20220407T160000
DTEND;TZID=Indian/Mayotte:20220407T223000
DTSTAMP:20260420T013739
CREATED:20220317T133255Z
LAST-MODIFIED:20220329T165007Z
UID:10724-1649347200-1649370600@www.obullescroisiere-mayotte.yt
SUMMARY:Plongée de nuit\, sunset\, grillade à bord
DESCRIPTION:
URL:https://www.obullescroisiere-mayotte.yt/evenement/plongee-de-nuit-sunset-grillade-a-bord-2/
ATTACH;FMTTYPE=image/jpeg:https://www.obullescroisiere-mayotte.yt/wp-content/uploads/2021/01/O°Bulles_Nuit_Helena-Bernard-e1634753981869.jpeg
END:VEVENT
BEGIN:VEVENT
DTSTART;TZID=Indian/Mayotte:20220409T073000
DTEND;TZID=Indian/Mayotte:20220409T180000
DTSTAMP:20260420T013739
CREATED:20220317T165302Z
LAST-MODIFIED:20220329T081534Z
UID:10775-1649489400-1649527200@www.obullescroisiere-mayotte.yt
SUMMARY:Journée plongée  banc de l'Iris
DESCRIPTION:
URL:https://www.obullescroisiere-mayotte.yt/evenement/journee-plongee-iris/
LOCATION:Mtsamboro\, Mtsamboro\, Mayotte
ATTACH;FMTTYPE=image/jpeg:https://www.obullescroisiere-mayotte.yt/wp-content/uploads/2021/02/Plongeurs_Mayotte_OBulles-e1614329798535.jpg
END:VEVENT
BEGIN:VEVENT
DTSTART;TZID=Indian/Mayotte:20220411T160000
DTEND;TZID=Indian/Mayotte:20220413T170000
DTSTAMP:20260420T013739
CREATED:20220317T135849Z
LAST-MODIFIED:20220329T081507Z
UID:10745-1649692800-1649869200@www.obullescroisiere-mayotte.yt
SUMMARY:Expédition banc de l'Iris
DESCRIPTION:
URL:https://www.obullescroisiere-mayotte.yt/evenement/expedition-geyser-zelee-2/
CATEGORIES:Expédition
ATTACH;FMTTYPE=image/jpeg:https://www.obullescroisiere-mayotte.yt/wp-content/uploads/2021/03/requin-iris-e1634754322856.jpg
END:VEVENT
BEGIN:VEVENT
DTSTART;TZID=Indian/Mayotte:20220415T073000
DTEND;TZID=Indian/Mayotte:20220417T180000
DTSTAMP:20260420T013739
CREATED:20220317T164259Z
LAST-MODIFIED:20220329T115656Z
UID:10765-1650007800-1650218400@www.obullescroisiere-mayotte.yt
SUMMARY:Sortie nord
DESCRIPTION:
URL:https://www.obullescroisiere-mayotte.yt/evenement/croisiere-nord/
CATEGORIES:Expédition
ATTACH;FMTTYPE=image/jpeg:https://www.obullescroisiere-mayotte.yt/wp-content/uploads/2021/02/IMG_2822.jpg
END:VEVENT
BEGIN:VEVENT
DTSTART;TZID=Indian/Mayotte:20220419T073000
DTEND;TZID=Indian/Mayotte:20220419T170000
DTSTAMP:20260420T013739
CREATED:20220407T173949Z
LAST-MODIFIED:20220417T051506Z
UID:10902-1650353400-1650387600@www.obullescroisiere-mayotte.yt
SUMMARY:Journée plongée  banc de l'Iris
DESCRIPTION:
URL:https://www.obullescroisiere-mayotte.yt/evenement/journee-plongee-banc-de-liris/
LOCATION:Hamjago
ATTACH;FMTTYPE=image/jpeg:https://www.obullescroisiere-mayotte.yt/wp-content/uploads/2021/03/requin-iris-e1634754322856.jpg
END:VEVENT
BEGIN:VEVENT
DTSTART;TZID=Indian/Mayotte:20220421T160000
DTEND;TZID=Indian/Mayotte:20220421T223000
DTSTAMP:20260420T013739
CREATED:20220319T192051Z
LAST-MODIFIED:20220329T082051Z
UID:10810-1650556800-1650580200@www.obullescroisiere-mayotte.yt
SUMMARY:Plongée de nuit\, sunset\, grillade à bord
DESCRIPTION:
URL:https://www.obullescroisiere-mayotte.yt/evenement/plongee-de-nuit-sunset-grillade-a-bord-3/
ATTACH;FMTTYPE=image/jpeg:https://www.obullescroisiere-mayotte.yt/wp-content/uploads/2021/01/O°Bulles_Nuit_Helena-Bernard-e1634753981869.jpeg
END:VEVENT
BEGIN:VEVENT
DTSTART;TZID=Indian/Mayotte:20220423T073000
DTEND;TZID=Indian/Mayotte:20220424T180000
DTSTAMP:20260420T013739
CREATED:20220317T164821Z
LAST-MODIFIED:20220329T082010Z
UID:10770-1650699000-1650823200@www.obullescroisiere-mayotte.yt
SUMMARY:Sortie nord
DESCRIPTION:
URL:https://www.obullescroisiere-mayotte.yt/evenement/croisiere-nord-2/
CATEGORIES:Expédition
ATTACH;FMTTYPE=image/jpeg:https://www.obullescroisiere-mayotte.yt/wp-content/uploads/2021/02/IMG_2822.jpg
END:VEVENT
BEGIN:VEVENT
DTSTART;TZID=Indian/Mayotte:20220427T160000
DTEND;TZID=Indian/Mayotte:20220430T170000
DTSTAMP:20260420T013739
CREATED:20220317T140040Z
LAST-MODIFIED:20220422T083958Z
UID:10750-1651075200-1651338000@www.obullescroisiere-mayotte.yt
SUMMARY:Expédition banc de l'iris
DESCRIPTION:
URL:https://www.obullescroisiere-mayotte.yt/evenement/expedition-geyser-zelee-3/
CATEGORIES:Expédition
ATTACH;FMTTYPE=image/jpeg:https://www.obullescroisiere-mayotte.yt/wp-content/uploads/2021/03/requin-iris-e1634754322856.jpg
END:VEVENT
END:VCALENDAR