BEGIN:VCALENDAR
VERSION:2.0
PRODID:-//O&#039;Bulles Croisière - ECPv5.14.1//NONSGML v1.0//EN
CALSCALE:GREGORIAN
METHOD:PUBLISH
X-WR-CALNAME:O&#039;Bulles Croisière
X-ORIGINAL-URL:https://www.obullescroisiere-mayotte.yt
X-WR-CALDESC:évènements pour O&#039;Bulles Croisière
REFRESH-INTERVAL;VALUE=DURATION:PT1H
X-Robots-Tag:noindex
X-PUBLISHED-TTL:PT1H
BEGIN:VTIMEZONE
TZID:Indian/Mayotte
BEGIN:STANDARD
TZOFFSETFROM:+0300
TZOFFSETTO:+0300
TZNAME:EAT
DTSTART:20230101T000000
END:STANDARD
END:VTIMEZONE
BEGIN:VEVENT
DTSTART;TZID=Indian/Mayotte:20231208T073000
DTEND;TZID=Indian/Mayotte:20231208T133000
DTSTAMP:20260420T095500
CREATED:20231125T140851Z
LAST-MODIFIED:20231125T140851Z
UID:13601-1702020600-1702042200@www.obullescroisiere-mayotte.yt
SUMMARY:Sortie spéciale double plongée extérieur
DESCRIPTION:Rendez vous à 7h30 pour une sortie deux plongées sur les sites de l’est\, à l’extérieur du lagon. Petit déjeuné sur la navigation allée\, suivi de la première plongée. Après un intervalle surfaces conséquent en mode farniente profitant des bains de soleils où en snorkeling sur les plus beaux récifs du lagon\, vient l’heure de la seconde immersion. Un apéro déjeunatoire est servi sur le trajet retour. Arrivé au pont on vers 13h30 – 14h. Tout cela dans le confort\, WC – douche avec eau chaude – bains de soleil\, musique…
URL:https://www.obullescroisiere-mayotte.yt/evenement/sortie-speciale-double-plongee-exterieur-3/
ATTACH;FMTTYPE=image/jpeg:https://www.obullescroisiere-mayotte.yt/wp-content/uploads/2021/02/Plongeurs_Mayotte_OBulles-e1614329798535.jpg
END:VEVENT
END:VCALENDAR