BEGIN:VCALENDAR
VERSION:2.0
PRODID:-//O&#039;Bulles Croisière - ECPv5.14.1//NONSGML v1.0//EN
CALSCALE:GREGORIAN
METHOD:PUBLISH
X-WR-CALNAME:O&#039;Bulles Croisière
X-ORIGINAL-URL:https://www.obullescroisiere-mayotte.yt
X-WR-CALDESC:évènements pour O&#039;Bulles Croisière
REFRESH-INTERVAL;VALUE=DURATION:PT1H
X-Robots-Tag:noindex
X-PUBLISHED-TTL:PT1H
BEGIN:VTIMEZONE
TZID:Indian/Mayotte
BEGIN:STANDARD
TZOFFSETFROM:+0300
TZOFFSETTO:+0300
TZNAME:EAT
DTSTART:20230101T000000
END:STANDARD
END:VTIMEZONE
BEGIN:VEVENT
DTSTART;TZID=Indian/Mayotte:20230925T080000
DTEND;TZID=Indian/Mayotte:20230928T170000
DTSTAMP:20260420T063747
CREATED:20230910T164220Z
LAST-MODIFIED:20230910T164220Z
UID:13255-1695628800-1695920400@www.obullescroisiere-mayotte.yt
SUMMARY:Recycleur : expédition banc de l’Iris & Longoni
DESCRIPTION:Info et résa : mail & téléphone
URL:https://www.obullescroisiere-mayotte.yt/evenement/recycleur-expedition-banc-de-liris-longoni/
ATTACH;FMTTYPE=image/png:https://www.obullescroisiere-mayotte.yt/wp-content/uploads/2019/03/Requins_Marteaux_Mayotte_Gaby_BARATHIEU.png
END:VEVENT
END:VCALENDAR