BEGIN:VCALENDAR
VERSION:2.0
PRODID:-//O&#039;Bulles Croisière - ECPv5.14.1//NONSGML v1.0//EN
CALSCALE:GREGORIAN
METHOD:PUBLISH
X-WR-CALNAME:O&#039;Bulles Croisière
X-ORIGINAL-URL:https://www.obullescroisiere-mayotte.yt
X-WR-CALDESC:évènements pour O&#039;Bulles Croisière
REFRESH-INTERVAL;VALUE=DURATION:PT1H
X-Robots-Tag:noindex
X-PUBLISHED-TTL:PT1H
BEGIN:VTIMEZONE
TZID:Indian/Mayotte
BEGIN:STANDARD
TZOFFSETFROM:+0300
TZOFFSETTO:+0300
TZNAME:EAT
DTSTART:20230101T000000
END:STANDARD
END:VTIMEZONE
BEGIN:VEVENT
DTSTART;TZID=Indian/Mayotte:20230902T080000
DTEND;TZID=Indian/Mayotte:20230902T160000
DTSTAMP:20260420T031836
CREATED:20230818T105526Z
LAST-MODIFIED:20230818T110448Z
UID:13059-1693641600-1693670400@www.obullescroisiere-mayotte.yt
SUMMARY:SPÉCIALE GRANDE MARÉE : Sortie O’Lagon  - snorkeling & plongée
DESCRIPTION:Profitez des grandes marées pour nager au plus près des récifs coralliens ! Rendez vous à 8h pour une sortie en mer convenant au plus grand nombre. Que vous vouliez profiter simplement d’une sortie sur un bateau confortable pour faire du snorkeling sur les récifs\, faire une exploration en plongée bouteille ou même vous laisser tenter par un baptême de plongée encadré par un moniteur\, cette sortie est faite pour vous !\nPetit déjeuner\, repas du midi et apéro servis à bord !\nPour réserver un supplément plongeur autonome\, encadré ou baptême\, merci de nous appeler au 0639674371 afin de connaître les disponibilités d’encadrement.\nPour une privatisation\, merci de prendre contact avec nous par téléphone ou par mail.
URL:https://www.obullescroisiere-mayotte.yt/evenement/speciale-grande-maree-sortie-olagon-snorkeling-plongee/
ATTACH;FMTTYPE=image/jpeg:https://www.obullescroisiere-mayotte.yt/wp-content/uploads/2021/01/IMG_0720.jpg
END:VEVENT
END:VCALENDAR