BEGIN:VCALENDAR
VERSION:2.0
PRODID:-//O&#039;Bulles Croisière - ECPv5.14.1//NONSGML v1.0//EN
CALSCALE:GREGORIAN
METHOD:PUBLISH
X-WR-CALNAME:O&#039;Bulles Croisière
X-ORIGINAL-URL:https://www.obullescroisiere-mayotte.yt
X-WR-CALDESC:évènements pour O&#039;Bulles Croisière
REFRESH-INTERVAL;VALUE=DURATION:PT1H
X-Robots-Tag:noindex
X-PUBLISHED-TTL:PT1H
BEGIN:VTIMEZONE
TZID:Indian/Mayotte
BEGIN:STANDARD
TZOFFSETFROM:+0300
TZOFFSETTO:+0300
TZNAME:EAT
DTSTART:20230101T000000
END:STANDARD
END:VTIMEZONE
BEGIN:VEVENT
DTSTART;TZID=Indian/Mayotte:20230730T073000
DTEND;TZID=Indian/Mayotte:20230730T133000
DTSTAMP:20260420T013810
CREATED:20230618T132252Z
LAST-MODIFIED:20230725T105408Z
UID:12582-1690702200-1690723800@www.obullescroisiere-mayotte.yt
SUMMARY:Sortie double plongée
DESCRIPTION:Rendez vous à 7h30 pour une sortie deux plongées sur les sites de l’est. Petit déjeuné sur la navigation allée\, suivi de la première plongée. Après un intervalle surfaces conséquent en mode farniente profitant des bains de soleils où en snorkeling sur les plus beaux récifs du lagon\, vient l’heure de la seconde immersion. Un apéro déjeunatoire est servi sur le trajet retour. Arrivé au pont on vers 13h30 – 14h. Tout cela dans le confort\, WC – douche avec eau chaude – bains de soleil\, musique…
URL:https://www.obullescroisiere-mayotte.yt/evenement/sortie-double-plongee-2/
ATTACH;FMTTYPE=image/png:https://www.obullescroisiere-mayotte.yt/wp-content/uploads/2021/02/Plongée_Choizil_Gaby_Barathieu.png
END:VEVENT
END:VCALENDAR