BEGIN:VCALENDAR
VERSION:2.0
PRODID:-//O&#039;Bulles Croisière - ECPv5.14.1//NONSGML v1.0//EN
CALSCALE:GREGORIAN
METHOD:PUBLISH
X-WR-CALNAME:O&#039;Bulles Croisière
X-ORIGINAL-URL:https://www.obullescroisiere-mayotte.yt
X-WR-CALDESC:évènements pour O&#039;Bulles Croisière
REFRESH-INTERVAL;VALUE=DURATION:PT1H
X-Robots-Tag:noindex
X-PUBLISHED-TTL:PT1H
BEGIN:VTIMEZONE
TZID:Indian/Mayotte
BEGIN:STANDARD
TZOFFSETFROM:+0300
TZOFFSETTO:+0300
TZNAME:EAT
DTSTART:20230101T000000
END:STANDARD
END:VTIMEZONE
BEGIN:VEVENT
DTSTART;TZID=Indian/Mayotte:20230715T080000
DTEND;TZID=Indian/Mayotte:20230715T160000
DTSTAMP:20260420T013814
CREATED:20230618T183823Z
LAST-MODIFIED:20230618T185723Z
UID:12602-1689408000-1689436800@www.obullescroisiere-mayotte.yt
SUMMARY:Sortie O’Lagon
DESCRIPTION:Rendez vous à 8h pour une sortie en mer convenant au plus grand nombre. Que vous vouliez profiter simplement d’une sortie sur un bateau confortable pour faire du snorkeling sur les récifs\, faire une exploration en plongée bouteille ou même vous laisser tenter par un baptême de plongée encadré par un moniteur\, cette sortie est faite pour vous !\nPetit déjeuner\, repas du midi et apéro servis à bord !\nPour réserver un supplément plongeur autonome\, encadré ou baptême\, merci de nous appeler au 0639654215
URL:https://www.obullescroisiere-mayotte.yt/evenement/sortie-olagon/
ATTACH;FMTTYPE=image/jpeg:https://www.obullescroisiere-mayotte.yt/wp-content/uploads/2021/01/IMG_0720.jpg
END:VEVENT
END:VCALENDAR