BEGIN:VCALENDAR
VERSION:2.0
PRODID:-//O&#039;Bulles Croisière - ECPv5.14.1//NONSGML v1.0//EN
CALSCALE:GREGORIAN
METHOD:PUBLISH
X-WR-CALNAME:O&#039;Bulles Croisière
X-ORIGINAL-URL:https://www.obullescroisiere-mayotte.yt
X-WR-CALDESC:évènements pour O&#039;Bulles Croisière
REFRESH-INTERVAL;VALUE=DURATION:PT1H
X-Robots-Tag:noindex
X-PUBLISHED-TTL:PT1H
BEGIN:VTIMEZONE
TZID:Indian/Mayotte
BEGIN:STANDARD
TZOFFSETFROM:+0300
TZOFFSETTO:+0300
TZNAME:EAT
DTSTART:20230101T000000
END:STANDARD
END:VTIMEZONE
BEGIN:VEVENT
DTSTART;TZID=Indian/Mayotte:20230614T163000
DTEND;TZID=Indian/Mayotte:20230614T223000
DTSTAMP:20260420T001644
CREATED:20230408T060625Z
LAST-MODIFIED:20230523T165639Z
UID:12430-1686760200-1686781800@www.obullescroisiere-mayotte.yt
SUMMARY:Plongée de nuit\, sunset\, repas convivial à bord
DESCRIPTION:plongée de nuit\, rendez vous 16h30 mars à août et 17h30 de septembre à février\, au ponton de Mamoudzou\, suivie d’un repas à bord d’O’Bulle !
URL:https://www.obullescroisiere-mayotte.yt/evenement/plongee-de-nuit-sunset-repas-convivial-a-bord-8/
ATTACH;FMTTYPE=image/jpeg:https://www.obullescroisiere-mayotte.yt/wp-content/uploads/2021/01/O°Bulles_Nuit_Helena-Bernard-e1634753981869.jpeg
END:VEVENT
END:VCALENDAR