BEGIN:VCALENDAR
VERSION:2.0
PRODID:-//O&#039;Bulles Croisière - ECPv5.14.1//NONSGML v1.0//EN
CALSCALE:GREGORIAN
METHOD:PUBLISH
X-WR-CALNAME:O&#039;Bulles Croisière
X-ORIGINAL-URL:https://www.obullescroisiere-mayotte.yt
X-WR-CALDESC:évènements pour O&#039;Bulles Croisière
REFRESH-INTERVAL;VALUE=DURATION:PT1H
X-Robots-Tag:noindex
X-PUBLISHED-TTL:PT1H
BEGIN:VTIMEZONE
TZID:Indian/Mayotte
BEGIN:STANDARD
TZOFFSETFROM:+0300
TZOFFSETTO:+0300
TZNAME:EAT
DTSTART:20230101T000000
END:STANDARD
END:VTIMEZONE
BEGIN:VEVENT
DTSTART;TZID=Indian/Mayotte:20230503T160000
DTEND;TZID=Indian/Mayotte:20230505T170000
DTSTAMP:20260420T002606
CREATED:20230408T052241Z
LAST-MODIFIED:20230408T052356Z
UID:12395-1683129600-1683306000@www.obullescroisiere-mayotte.yt
SUMMARY:Expédition Banc de l’Iris - Nord 4 plongées
DESCRIPTION:Venez explorer les sites au nord de Mayotte : le banc de l’Iris. 4 plongées à la recherche des grosse bébêtes de notre lagon ! Requin dagsit\, marteaux\, bouledogue\, obésus\, albimarginatus\, nourrice\, thon dent de chien\, thazard\, carangues\, mérou\, espadon…\nCompris entre 20 et 35 mètres de profondeurs\, il vous faut être PE40 minimum pour accéder à ces plongées exceptionnelles.
URL:https://www.obullescroisiere-mayotte.yt/evenement/expedition-banc-de-liris-nord-4-plongees-3/
CATEGORIES:Expédition
ATTACH;FMTTYPE=image/jpeg:https://www.obullescroisiere-mayotte.yt/wp-content/uploads/2021/03/requin-iris-e1634754322856.jpg
END:VEVENT
END:VCALENDAR