BEGIN:VCALENDAR
VERSION:2.0
PRODID:-//O&#039;Bulles Croisière - ECPv5.14.1//NONSGML v1.0//EN
CALSCALE:GREGORIAN
METHOD:PUBLISH
X-WR-CALNAME:O&#039;Bulles Croisière
X-ORIGINAL-URL:https://www.obullescroisiere-mayotte.yt
X-WR-CALDESC:évènements pour O&#039;Bulles Croisière
REFRESH-INTERVAL;VALUE=DURATION:PT1H
X-Robots-Tag:noindex
X-PUBLISHED-TTL:PT1H
BEGIN:VTIMEZONE
TZID:Indian/Mayotte
BEGIN:STANDARD
TZOFFSETFROM:+0300
TZOFFSETTO:+0300
TZNAME:EAT
DTSTART:20230101T000000
END:STANDARD
END:VTIMEZONE
BEGIN:VEVENT
DTSTART;TZID=Indian/Mayotte:20230327T160000
DTEND;TZID=Indian/Mayotte:20230329T170000
DTSTAMP:20260419T194810
CREATED:20230103T111728Z
LAST-MODIFIED:20230103T111825Z
UID:12045-1679932800-1680109200@www.obullescroisiere-mayotte.yt
SUMMARY:Expédition Recycleur Banc de l’Iirs
DESCRIPTION:S’adresse aux plongeurs recycleur qualifiés et possédant leur propre machine.\n4 plongées\, 6 personnes max.\nOxygène et chaux vendus à bord.\nCabine double à partager.\nRenseignement et réservation par mail.
URL:https://www.obullescroisiere-mayotte.yt/evenement/expedition-recycleur-banc-de-liirs/
CATEGORIES:Expédition
ATTACH;FMTTYPE=image/jpeg:https://www.obullescroisiere-mayotte.yt/wp-content/uploads/2021/03/requin-iris-e1634754322856.jpg
END:VEVENT
END:VCALENDAR