BEGIN:VCALENDAR
VERSION:2.0
PRODID:-//O&#039;Bulles Croisière - ECPv5.14.1//NONSGML v1.0//EN
CALSCALE:GREGORIAN
METHOD:PUBLISH
X-WR-CALNAME:O&#039;Bulles Croisière
X-ORIGINAL-URL:https://www.obullescroisiere-mayotte.yt
X-WR-CALDESC:évènements pour O&#039;Bulles Croisière
REFRESH-INTERVAL;VALUE=DURATION:PT1H
X-Robots-Tag:noindex
X-PUBLISHED-TTL:PT1H
BEGIN:VTIMEZONE
TZID:Indian/Mayotte
BEGIN:STANDARD
TZOFFSETFROM:+0300
TZOFFSETTO:+0300
TZNAME:EAT
DTSTART:20220101T000000
END:STANDARD
END:VTIMEZONE
BEGIN:VEVENT
DTSTART;TZID=Indian/Mayotte:20220906T163000
DTEND;TZID=Indian/Mayotte:20220906T223000
DTSTAMP:20260419T194809
CREATED:20220601T123801Z
LAST-MODIFIED:20220601T123836Z
UID:11156-1662481800-1662503400@www.obullescroisiere-mayotte.yt
SUMMARY:Plongée de nuit\, sunset\, grillade à bord
DESCRIPTION:plongée de nuit\, rendez vous 16h30 au ponton de Mamoudzou\, suivie d’un repas à bord d’O’Bulle !
URL:https://www.obullescroisiere-mayotte.yt/evenement/plongee-de-nuit-sunset-grillade-a-bord-10/
ATTACH;FMTTYPE=image/jpeg:https://www.obullescroisiere-mayotte.yt/wp-content/uploads/2021/01/O°Bulles_Nuit_Helena-Bernard-e1634753981869.jpeg
END:VEVENT
END:VCALENDAR