BEGIN:VCALENDAR
VERSION:2.0
PRODID:-//O&#039;Bulles Croisière - ECPv5.14.1//NONSGML v1.0//EN
CALSCALE:GREGORIAN
METHOD:PUBLISH
X-WR-CALNAME:O&#039;Bulles Croisière
X-ORIGINAL-URL:https://www.obullescroisiere-mayotte.yt
X-WR-CALDESC:évènements pour O&#039;Bulles Croisière
REFRESH-INTERVAL;VALUE=DURATION:PT1H
X-Robots-Tag:noindex
X-PUBLISHED-TTL:PT1H
BEGIN:VTIMEZONE
TZID:Indian/Mayotte
BEGIN:STANDARD
TZOFFSETFROM:+0300
TZOFFSETTO:+0300
TZNAME:EAT
DTSTART:20220101T000000
END:STANDARD
END:VTIMEZONE
BEGIN:VEVENT
DTSTART;TZID=Indian/Mayotte:20220703T080000
DTEND;TZID=Indian/Mayotte:20220703T170000
DTSTAMP:20260419T223814
CREATED:20220601T124710Z
LAST-MODIFIED:20220601T124947Z
UID:11160-1656835200-1656867600@www.obullescroisiere-mayotte.yt
SUMMARY:Journée O'Lagon snorkeling et plongée
DESCRIPTION:Passez une journée à bord d’O’Bulle à la découverte des récifs du lagon en snorkeling avec un repas grillade. Possibilité de faire une plongée bouteille ou un baptême de plongée !
URL:https://www.obullescroisiere-mayotte.yt/evenement/journee-olagon-snorkeling-et-plongee-3/
ATTACH;FMTTYPE=image/jpeg:https://www.obullescroisiere-mayotte.yt/wp-content/uploads/2021/01/IMG_0720.jpg
END:VEVENT
END:VCALENDAR