BEGIN:VCALENDAR
VERSION:2.0
PRODID:-//O&#039;Bulles Croisière - ECPv5.14.1//NONSGML v1.0//EN
CALSCALE:GREGORIAN
METHOD:PUBLISH
X-WR-CALNAME:O&#039;Bulles Croisière
X-ORIGINAL-URL:https://www.obullescroisiere-mayotte.yt
X-WR-CALDESC:évènements pour O&#039;Bulles Croisière
REFRESH-INTERVAL;VALUE=DURATION:PT1H
X-Robots-Tag:noindex
X-PUBLISHED-TTL:PT1H
BEGIN:VTIMEZONE
TZID:Indian/Mayotte
BEGIN:STANDARD
TZOFFSETFROM:+0300
TZOFFSETTO:+0300
TZNAME:EAT
DTSTART:20220101T000000
END:STANDARD
END:VTIMEZONE
BEGIN:VEVENT
DTSTART;TZID=Indian/Mayotte:20220610T160000
DTEND;TZID=Indian/Mayotte:20220612T170000
DTSTAMP:20260420T001052
CREATED:20220425T071146Z
LAST-MODIFIED:20220425T071146Z
UID:10959-1654876800-1655053200@www.obullescroisiere-mayotte.yt
SUMMARY:Expédition Nord 4 plongées
DESCRIPTION:
URL:https://www.obullescroisiere-mayotte.yt/evenement/expedition-nord-4-plongees/
CATEGORIES:Expédition
ATTACH;FMTTYPE=image/jpeg:https://www.obullescroisiere-mayotte.yt/wp-content/uploads/2021/03/requin-iris-e1634754322856.jpg
END:VEVENT
END:VCALENDAR