BEGIN:VCALENDAR
VERSION:2.0
PRODID:-//O&#039;Bulles Croisière - ECPv5.14.1//NONSGML v1.0//EN
CALSCALE:GREGORIAN
METHOD:PUBLISH
X-WR-CALNAME:O&#039;Bulles Croisière
X-ORIGINAL-URL:https://www.obullescroisiere-mayotte.yt
X-WR-CALDESC:évènements pour O&#039;Bulles Croisière
REFRESH-INTERVAL;VALUE=DURATION:PT1H
X-Robots-Tag:noindex
X-PUBLISHED-TTL:PT1H
BEGIN:VTIMEZONE
TZID:Indian/Mayotte
BEGIN:STANDARD
TZOFFSETFROM:+0300
TZOFFSETTO:+0300
TZNAME:EAT
DTSTART:20220101T000000
END:STANDARD
END:VTIMEZONE
BEGIN:VEVENT
DTSTART;TZID=Indian/Mayotte:20220502T160000
DTEND;TZID=Indian/Mayotte:20220508T170000
DTSTAMP:20260420T013759
CREATED:20220329T082521Z
LAST-MODIFIED:20220329T164854Z
UID:10874-1651507200-1652029200@www.obullescroisiere-mayotte.yt
SUMMARY:Expédition tour de l'ile 12-14 plongées
DESCRIPTION:
URL:https://www.obullescroisiere-mayotte.yt/evenement/expedition-tour-de-lile-12-14-plongees/
ATTACH;FMTTYPE=image/jpeg:https://www.obullescroisiere-mayotte.yt/wp-content/uploads/2021/01/IMG_0788.jpg
END:VEVENT
END:VCALENDAR